BEGIN:VCALENDAR
VERSION:2.0
PRODID:-//TSG Zellertal - ECPv6.15.20//NONSGML v1.0//EN
CALSCALE:GREGORIAN
METHOD:PUBLISH
X-ORIGINAL-URL:https://tsg-zellertal.de
X-WR-CALDESC:Veranstaltungen für TSG Zellertal
REFRESH-INTERVAL;VALUE=DURATION:PT1H
X-Robots-Tag:noindex
X-PUBLISHED-TTL:PT1H
BEGIN:VTIMEZONE
TZID:Europe/Helsinki
BEGIN:DAYLIGHT
TZOFFSETFROM:+0200
TZOFFSETTO:+0300
TZNAME:EEST
DTSTART:20250330T010000
END:DAYLIGHT
BEGIN:STANDARD
TZOFFSETFROM:+0300
TZOFFSETTO:+0200
TZNAME:EET
DTSTART:20251026T010000
END:STANDARD
BEGIN:DAYLIGHT
TZOFFSETFROM:+0200
TZOFFSETTO:+0300
TZNAME:EEST
DTSTART:20260329T010000
END:DAYLIGHT
BEGIN:STANDARD
TZOFFSETFROM:+0300
TZOFFSETTO:+0200
TZNAME:EET
DTSTART:20261025T010000
END:STANDARD
BEGIN:DAYLIGHT
TZOFFSETFROM:+0200
TZOFFSETTO:+0300
TZNAME:EEST
DTSTART:20270328T010000
END:DAYLIGHT
BEGIN:STANDARD
TZOFFSETFROM:+0300
TZOFFSETTO:+0200
TZNAME:EET
DTSTART:20271031T010000
END:STANDARD
END:VTIMEZONE
BEGIN:VEVENT
DTSTART;TZID=Europe/Helsinki:20260808T100000
DTEND;TZID=Europe/Helsinki:20260808T160000
DTSTAMP:20260423T031147
CREATED:20260314T104716Z
LAST-MODIFIED:20260314T104716Z
UID:9136-1786183200-1786204800@tsg-zellertal.de
SUMMARY:Sportabzeichen-Tag
DESCRIPTION:
URL:https://tsg-zellertal.de/events/sportabzeichen-tag-2/
LOCATION:Sportplatz TSG Zellertal\, Zeller Str. 3\, 67308 Zellertal\, ZEllertal\, 67308\, Germany
CATEGORIES:Breitensport,Schwimmen und Breitensport,Schwimmen und Breitensport-Hauptverein,Sportabzeichen
ATTACH;FMTTYPE=image/jpeg:https://tsg-zellertal.de/wp-content/uploads/2025/10/CA20125F-7465-48AF-B5F8-50D6042DE402-scaled.jpg
END:VEVENT
END:VCALENDAR