BEGIN:VCALENDAR
VERSION:2.0
PRODID:-//TSG Zellertal - ECPv6.15.20//NONSGML v1.0//EN
CALSCALE:GREGORIAN
METHOD:PUBLISH
X-WR-CALNAME:TSG Zellertal
X-ORIGINAL-URL:https://tsg-zellertal.de
X-WR-CALDESC:Veranstaltungen für TSG Zellertal
REFRESH-INTERVAL;VALUE=DURATION:PT1H
X-Robots-Tag:noindex
X-PUBLISHED-TTL:PT1H
BEGIN:VTIMEZONE
TZID:Europe/Helsinki
BEGIN:DAYLIGHT
TZOFFSETFROM:+0200
TZOFFSETTO:+0300
TZNAME:EEST
DTSTART:20250330T010000
END:DAYLIGHT
BEGIN:STANDARD
TZOFFSETFROM:+0300
TZOFFSETTO:+0200
TZNAME:EET
DTSTART:20251026T010000
END:STANDARD
BEGIN:DAYLIGHT
TZOFFSETFROM:+0200
TZOFFSETTO:+0300
TZNAME:EEST
DTSTART:20260329T010000
END:DAYLIGHT
BEGIN:STANDARD
TZOFFSETFROM:+0300
TZOFFSETTO:+0200
TZNAME:EET
DTSTART:20261025T010000
END:STANDARD
BEGIN:DAYLIGHT
TZOFFSETFROM:+0200
TZOFFSETTO:+0300
TZNAME:EEST
DTSTART:20270328T010000
END:DAYLIGHT
BEGIN:STANDARD
TZOFFSETFROM:+0300
TZOFFSETTO:+0200
TZNAME:EET
DTSTART:20271031T010000
END:STANDARD
END:VTIMEZONE
BEGIN:VEVENT
DTSTART;TZID=Europe/Helsinki:20260301T110000
DTEND;TZID=Europe/Helsinki:20260301T110000
DTSTAMP:20260422T235116
CREATED:20250812T093111Z
LAST-MODIFIED:20250812T093111Z
UID:8343-1772362800-1772362800@tsg-zellertal.de
SUMMARY:Damen Oberliga Südwest TSV Gau-Odernheim - TSG Zellertal
DESCRIPTION:
URL:https://tsg-zellertal.de/events/damen-oberliga-suedwest-tsv-gau-odernheim-tsg-zellertal/
CATEGORIES:Tischtennis,Tischtennis-Hauptverein
END:VEVENT
BEGIN:VEVENT
DTSTART;TZID=Europe/Helsinki:20260302T200000
DTEND;TZID=Europe/Helsinki:20260302T200000
DTSTAMP:20260422T235116
CREATED:20250821T090237Z
LAST-MODIFIED:20250821T090237Z
UID:8540-1772481600-1772481600@tsg-zellertal.de
SUMMARY:Kreisklasse B Nord-Ost TSG Zellertal 3 - TTV Bobenheim 4
DESCRIPTION:
URL:https://tsg-zellertal.de/events/kreisklasse-b-nord-ost-tsg-zellertal-3-ttv-bobenheim-4/
CATEGORIES:Tischtennis,Tischtennis-Hauptverein
END:VEVENT
BEGIN:VEVENT
DTSTART;TZID=Europe/Helsinki:20260303T200000
DTEND;TZID=Europe/Helsinki:20260303T200000
DTSTAMP:20260422T235116
CREATED:20250812T103131Z
LAST-MODIFIED:20250812T103131Z
UID:8440-1772568000-1772568000@tsg-zellertal.de
SUMMARY:Kreisliga Nord-West TSG Zellertal 2 - KSV Breunigweiler
DESCRIPTION:
URL:https://tsg-zellertal.de/events/kreisliga-nord-west-tsg-zellertal-2-ksv-breunigweiler/
CATEGORIES:Tischtennis,Tischtennis-Hauptverein
END:VEVENT
BEGIN:VEVENT
DTSTART;TZID=Europe/Helsinki:20260306T200000
DTEND;TZID=Europe/Helsinki:20260306T200000
DTSTAMP:20260422T235116
CREATED:20250812T100453Z
LAST-MODIFIED:20250812T100453Z
UID:8403-1772827200-1772827200@tsg-zellertal.de
SUMMARY:Bezirksliga Vorderpfalz Nord TTF Dannstadt-Schauernheim - TSG Zellertal
DESCRIPTION:
URL:https://tsg-zellertal.de/events/bezirksliga-vorderpfalz-nord-ttf-dannstadt-schauernheim-tsg-zellertal/
CATEGORIES:Tischtennis,Tischtennis-Hauptverein
END:VEVENT
BEGIN:VEVENT
DTSTART;TZID=Europe/Helsinki:20260307T100000
DTEND;TZID=Europe/Helsinki:20260307T100000
DTSTAMP:20260422T235116
CREATED:20250821T092047Z
LAST-MODIFIED:20250821T092047Z
UID:8588-1772877600-1772877600@tsg-zellertal.de
SUMMARY:Bezirksliga Jugend 19 TSG Zellertal - TTC Bad Dürkheim
DESCRIPTION:
URL:https://tsg-zellertal.de/events/bezirksliga-jugend-19-tsg-zellertal-ttc-bad-duerkheim/
CATEGORIES:Tischtennis,Tischtennis-Hauptverein
END:VEVENT
BEGIN:VEVENT
DTSTART;TZID=Europe/Helsinki:20260307T170000
DTEND;TZID=Europe/Helsinki:20260307T170000
DTSTAMP:20260422T235116
CREATED:20250812T094823Z
LAST-MODIFIED:20250812T094823Z
UID:8367-1772902800-1772902800@tsg-zellertal.de
SUMMARY:Damen 2. Pfalzliga TSG Zellertal 2 - SV Kirchheimbolanden
DESCRIPTION:
URL:https://tsg-zellertal.de/events/damen-2-pfalzliga-tsg-zellertal-2-sv-kirchheimbolanden/
CATEGORIES:Tischtennis,Tischtennis-Hauptverein
END:VEVENT
BEGIN:VEVENT
DTSTART;TZID=Europe/Helsinki:20260309T201500
DTEND;TZID=Europe/Helsinki:20260309T201500
DTSTAMP:20260422T235116
CREATED:20250812T103221Z
LAST-MODIFIED:20250812T103221Z
UID:8442-1773087300-1773087300@tsg-zellertal.de
SUMMARY:Kreisliga Nord-West TTC Frankenthal 3 - TSG Zellertal 2
DESCRIPTION:
URL:https://tsg-zellertal.de/events/kreisliga-nord-west-ttc-frankenthal-3-tsg-zellertal-2/
CATEGORIES:Tischtennis,Tischtennis-Hauptverein
END:VEVENT
BEGIN:VEVENT
DTSTART;TZID=Europe/Helsinki:20260310T200000
DTEND;TZID=Europe/Helsinki:20260310T200000
DTSTAMP:20260422T235116
CREATED:20250821T092537Z
LAST-MODIFIED:20250821T092537Z
UID:8600-1773172800-1773172800@tsg-zellertal.de
SUMMARY:Senioren 60 Herren TSG Zellertal - TSG Grünstadt
DESCRIPTION:
URL:https://tsg-zellertal.de/events/senioren-60-herren-tsg-zellertal-tsg-gruenstadt/
CATEGORIES:Tischtennis,Tischtennis-Hauptverein
END:VEVENT
BEGIN:VEVENT
DTSTART;TZID=Europe/Helsinki:20260313T193000
DTEND;TZID=Europe/Helsinki:20260313T193000
DTSTAMP:20260422T235116
CREATED:20250812T100539Z
LAST-MODIFIED:20250812T100539Z
UID:8405-1773430200-1773430200@tsg-zellertal.de
SUMMARY:Bezirksliga Vorderpfalz Nord TSG Zellertal - TuS Wachenheim 2
DESCRIPTION:
URL:https://tsg-zellertal.de/events/bezirksliga-vorderpfalz-nord-tsg-zellertal-tus-wachenheim-2/
CATEGORIES:Tischtennis,Tischtennis-Hauptverein
END:VEVENT
BEGIN:VEVENT
DTSTART;TZID=Europe/Helsinki:20260314T183000
DTEND;TZID=Europe/Helsinki:20260314T183000
DTSTAMP:20260422T235116
CREATED:20250812T093205Z
LAST-MODIFIED:20250812T093205Z
UID:8345-1773513000-1773513000@tsg-zellertal.de
SUMMARY:Damen Oberliga Südwest RSV Klein-Winternheim - TSG Zellertal
DESCRIPTION:
URL:https://tsg-zellertal.de/events/damen-oberliga-suedwest-rsv-klein-winternheim-tsg-zellertal/
CATEGORIES:Tischtennis,Tischtennis-Hauptverein
END:VEVENT
BEGIN:VEVENT
DTSTART;TZID=Europe/Helsinki:20260314T190000
DTEND;TZID=Europe/Helsinki:20260314T190000
DTSTAMP:20260422T235116
CREATED:20250812T094918Z
LAST-MODIFIED:20250812T094918Z
UID:8369-1773514800-1773514800@tsg-zellertal.de
SUMMARY:Damen 2. Pfalzliga DJK Limburgerhof - TSG Zellertal 2
DESCRIPTION:
URL:https://tsg-zellertal.de/events/damen-2-pfalzliga-djk-limburgerhof-tsg-zellertal-2/
CATEGORIES:Tischtennis,Tischtennis-Hauptverein
END:VEVENT
BEGIN:VEVENT
DTSTART;TZID=Europe/Helsinki:20260315T100000
DTEND;TZID=Europe/Helsinki:20260315T100000
DTSTAMP:20260422T235116
CREATED:20250812T093258Z
LAST-MODIFIED:20250812T093258Z
UID:8347-1773568800-1773568800@tsg-zellertal.de
SUMMARY:Damen Oberliga Südwest TSG Zellertal - 1. FC Saarbrücken TT
DESCRIPTION:
URL:https://tsg-zellertal.de/events/damen-oberliga-suedwest-tsg-zellertal-1-fc-saarbruecken-tt/
CATEGORIES:Tischtennis,Tischtennis-Hauptverein
END:VEVENT
BEGIN:VEVENT
DTSTART;TZID=Europe/Helsinki:20260317T200000
DTEND;TZID=Europe/Helsinki:20260317T200000
DTSTAMP:20260422T235116
CREATED:20250812T103310Z
LAST-MODIFIED:20250812T103310Z
UID:8444-1773777600-1773777600@tsg-zellertal.de
SUMMARY:Kreisliga Nord-West TSG Zellertal 2 - TTF Frankenthal 3
DESCRIPTION:
URL:https://tsg-zellertal.de/events/kreisliga-nord-west-tsg-zellertal-2-ttf-frankenthal-3/
CATEGORIES:Tischtennis,Tischtennis-Hauptverein
END:VEVENT
BEGIN:VEVENT
DTSTART;TZID=Europe/Helsinki:20260320T200000
DTEND;TZID=Europe/Helsinki:20260320T200000
DTSTAMP:20260422T235116
CREATED:20250812T100622Z
LAST-MODIFIED:20250812T100622Z
UID:8407-1774036800-1774036800@tsg-zellertal.de
SUMMARY:Bezirksliga Vorderpfalz Nord SVF Ludwigshafen - TSG Zellertal
DESCRIPTION:
URL:https://tsg-zellertal.de/events/bezirksliga-vorderpfalz-nord-svf-ludwigshafen-tsg-zellertal/
CATEGORIES:Tischtennis,Tischtennis-Hauptverein
END:VEVENT
BEGIN:VEVENT
DTSTART;TZID=Europe/Helsinki:20260321T083000
DTEND;TZID=Europe/Helsinki:20260321T180000
DTSTAMP:20260422T235116
CREATED:20260314T102319Z
LAST-MODIFIED:20260314T102753Z
UID:9117-1774081800-1774116000@tsg-zellertal.de
SUMMARY:8. Schwimmtreff des SV Kirchheimbolanden e.V.
DESCRIPTION:An dem vom SVK ausgerichteten Schwimmwettkampf nehmen auch Schwimmerinnen und Schwimmer der TSG Zellertal teil.
URL:https://tsg-zellertal.de/events/8-schwimmtreff-des-sv-kirchheimbolanden-e-v/
LOCATION:KiboBad\, Fischbachweg 3\, Kirchheimbolanden\, 67292\, Deutschland
CATEGORIES:Schwimmen,Schwimmen und Breitensport,Schwimmen und Breitensport-Hauptverein
ATTACH;FMTTYPE=image/jpeg:https://tsg-zellertal.de/wp-content/uploads/2024/11/Schwimmen1.jpeg
END:VEVENT
BEGIN:VEVENT
DTSTART;TZID=Europe/Helsinki:20260321T083000
DTEND;TZID=Europe/Helsinki:20260322T180000
DTSTAMP:20260422T235116
CREATED:20260314T104001Z
LAST-MODIFIED:20260314T104034Z
UID:9129-1774081800-1774202400@tsg-zellertal.de
SUMMARY:Rheinland-Pfalz-Meisterschaften in Saarbrücken
DESCRIPTION:An den Rheinland-Pfalz-Meisterschaften nehmen auch Schwimmerinnen und Schwimmer der TSG Zellertal teil.
URL:https://tsg-zellertal.de/events/rheinland-pfalz-meisterschaften/
LOCATION:Albert-Wagner-Schwimmhalle (Sportcampus Saar)\, Hermann-Neuberger-Str. 1\, Saarbrücken\, 66123
CATEGORIES:Schwimmen,Schwimmen und Breitensport,Schwimmen und Breitensport-Hauptverein
ATTACH;FMTTYPE=image/jpeg:https://tsg-zellertal.de/wp-content/uploads/2024/11/Schwimmen1.jpeg
END:VEVENT
BEGIN:VEVENT
DTSTART;TZID=Europe/Helsinki:20260321T170000
DTEND;TZID=Europe/Helsinki:20260321T170000
DTSTAMP:20260422T235116
CREATED:20250812T094958Z
LAST-MODIFIED:20250812T094958Z
UID:8371-1774112400-1774112400@tsg-zellertal.de
SUMMARY:Damen 2. Pfalzliga TSG Zellertal 2 - TTC Altenglan
DESCRIPTION:
URL:https://tsg-zellertal.de/events/damen-2-pfalzliga-tsg-zellertal-2-ttc-altenglan/
CATEGORIES:Tischtennis,Tischtennis-Hauptverein
END:VEVENT
BEGIN:VEVENT
DTSTART;TZID=Europe/Helsinki:20260328T170000
DTEND;TZID=Europe/Helsinki:20260328T170000
DTSTAMP:20260422T235116
CREATED:20250812T093352Z
LAST-MODIFIED:20250812T093352Z
UID:8349-1774717200-1774717200@tsg-zellertal.de
SUMMARY:Damen Oberliga Südwest TTC Nentershausen - TSG Zellertal
DESCRIPTION:
URL:https://tsg-zellertal.de/events/damen-oberliga-suedwest-ttc-nentershausen-tsg-zellertal/
CATEGORIES:Tischtennis,Tischtennis-Hauptverein
END:VEVENT
END:VCALENDAR