BEGIN:VCALENDAR
VERSION:2.0
PRODID:-//TSG Zellertal - ECPv6.15.20//NONSGML v1.0//EN
CALSCALE:GREGORIAN
METHOD:PUBLISH
X-ORIGINAL-URL:https://tsg-zellertal.de
X-WR-CALDESC:Veranstaltungen für TSG Zellertal
REFRESH-INTERVAL;VALUE=DURATION:PT1H
X-Robots-Tag:noindex
X-PUBLISHED-TTL:PT1H
BEGIN:VTIMEZONE
TZID:Europe/Helsinki
BEGIN:DAYLIGHT
TZOFFSETFROM:+0200
TZOFFSETTO:+0300
TZNAME:EEST
DTSTART:20250330T010000
END:DAYLIGHT
BEGIN:STANDARD
TZOFFSETFROM:+0300
TZOFFSETTO:+0200
TZNAME:EET
DTSTART:20251026T010000
END:STANDARD
BEGIN:DAYLIGHT
TZOFFSETFROM:+0200
TZOFFSETTO:+0300
TZNAME:EEST
DTSTART:20260329T010000
END:DAYLIGHT
BEGIN:STANDARD
TZOFFSETFROM:+0300
TZOFFSETTO:+0200
TZNAME:EET
DTSTART:20261025T010000
END:STANDARD
BEGIN:DAYLIGHT
TZOFFSETFROM:+0200
TZOFFSETTO:+0300
TZNAME:EEST
DTSTART:20270328T010000
END:DAYLIGHT
BEGIN:STANDARD
TZOFFSETFROM:+0300
TZOFFSETTO:+0200
TZNAME:EET
DTSTART:20271031T010000
END:STANDARD
END:VTIMEZONE
BEGIN:VEVENT
DTSTART;TZID=Europe/Helsinki:20260201T100000
DTEND;TZID=Europe/Helsinki:20260201T100000
DTSTAMP:20260423T014309
CREATED:20250812T094649Z
LAST-MODIFIED:20250812T094649Z
UID:8363-1769940000-1769940000@tsg-zellertal.de
SUMMARY:Damen 2. Pfalzliga TTC Oppau - TSG Zellertal 2
DESCRIPTION:
URL:https://tsg-zellertal.de/events/damen-2-pfalzliga-ttc-oppau-tsg-zellertal-2/
CATEGORIES:Tischtennis,Tischtennis-Hauptverein
END:VEVENT
BEGIN:VEVENT
DTSTART;TZID=Europe/Helsinki:20260201T110000
DTEND;TZID=Europe/Helsinki:20260201T110000
DTSTAMP:20260423T014309
CREATED:20250812T092847Z
LAST-MODIFIED:20250812T092847Z
UID:8337-1769943600-1769943600@tsg-zellertal.de
SUMMARY:Damen Oberliga Südwest TTC Brücken - TSG Zellertal
DESCRIPTION:
URL:https://tsg-zellertal.de/events/damen-oberliga-suedwest-ttc-bruecken-tsg-zellertal/
CATEGORIES:Tischtennis,Tischtennis-Hauptverein
END:VEVENT
BEGIN:VEVENT
DTSTART;TZID=Europe/Helsinki:20260202T200000
DTEND;TZID=Europe/Helsinki:20260202T200000
DTSTAMP:20260423T014309
CREATED:20250821T090020Z
LAST-MODIFIED:20250821T090020Z
UID:8534-1770062400-1770062400@tsg-zellertal.de
SUMMARY:Kreisklasse B Nord-Ost TSG Zellertal 3- TTC Frankenthal 4
DESCRIPTION:
URL:https://tsg-zellertal.de/events/kreisklasse-b-nord-ost-tsg-zellertal-3-ttc-frankenthal-4/
CATEGORIES:Tischtennis,Tischtennis-Hauptverein
END:VEVENT
BEGIN:VEVENT
DTSTART;TZID=Europe/Helsinki:20260203T200000
DTEND;TZID=Europe/Helsinki:20260203T200000
DTSTAMP:20260423T014309
CREATED:20250812T103044Z
LAST-MODIFIED:20250812T103044Z
UID:8438-1770148800-1770148800@tsg-zellertal.de
SUMMARY:Kreisliga Nord-West TSG Zellertal 2 - TSG Eisenberg 2
DESCRIPTION:
URL:https://tsg-zellertal.de/events/kreisliga-nord-west-tsg-zellertal-2-tsg-eisenberg-2/
CATEGORIES:Tischtennis,Tischtennis-Hauptverein
END:VEVENT
BEGIN:VEVENT
DTSTART;TZID=Europe/Helsinki:20260206T200000
DTEND;TZID=Europe/Helsinki:20260206T200000
DTSTAMP:20260423T014309
CREATED:20250812T100221Z
LAST-MODIFIED:20250812T100221Z
UID:8397-1770408000-1770408000@tsg-zellertal.de
SUMMARY:Bezirksliga Vorderpfalz Nord  TTC Schifferstadt - TSG Zellertal
DESCRIPTION:
URL:https://tsg-zellertal.de/events/bezirksliga-vorderpfalz-nord-ttc-schifferstadt-tsg-zellertal/
CATEGORIES:Tischtennis,Tischtennis-Hauptverein
END:VEVENT
BEGIN:VEVENT
DTSTART;TZID=Europe/Helsinki:20260207T100000
DTEND;TZID=Europe/Helsinki:20260207T100000
DTSTAMP:20260423T014309
CREATED:20250821T091059Z
LAST-MODIFIED:20250821T091059Z
UID:8560-1770458400-1770458400@tsg-zellertal.de
SUMMARY:Bezirksklasse West Jugend 15 TSG Zellertal - ASV Maxdorf
DESCRIPTION:
URL:https://tsg-zellertal.de/events/bezirksklasse-west-jugend-15-tsg-zellertal-asv-maxdorf/
CATEGORIES:Tischtennis,Tischtennis-Hauptverein
END:VEVENT
BEGIN:VEVENT
DTSTART;TZID=Europe/Helsinki:20260207T140000
DTEND;TZID=Europe/Helsinki:20260207T140000
DTSTAMP:20260423T014309
CREATED:20250821T091848Z
LAST-MODIFIED:20250821T091848Z
UID:8582-1770472800-1770472800@tsg-zellertal.de
SUMMARY:Bezirksliga Jugend 19 TSV Freinsheim - TSG Zellertal
DESCRIPTION:
URL:https://tsg-zellertal.de/events/bezirksliga-jugend-19-tsv-freinsheim-tsg-zellertal/
CATEGORIES:Tischtennis,Tischtennis-Hauptverein
END:VEVENT
BEGIN:VEVENT
DTSTART;TZID=Europe/Helsinki:20260207T170000
DTEND;TZID=Europe/Helsinki:20260207T170000
DTSTAMP:20260423T014309
CREATED:20250812T094739Z
LAST-MODIFIED:20250812T094739Z
UID:8365-1770483600-1770483600@tsg-zellertal.de
SUMMARY:Damen 2. Pfalzliga TSG Zellertal 2 - TTC Steinalben
DESCRIPTION:
URL:https://tsg-zellertal.de/events/damen-2-pfalzliga-tsg-zellertal-2-ttc-steinalben/
CATEGORIES:Tischtennis,Tischtennis-Hauptverein
END:VEVENT
BEGIN:VEVENT
DTSTART;TZID=Europe/Helsinki:20260208T110000
DTEND;TZID=Europe/Helsinki:20260208T110000
DTSTAMP:20260423T014309
CREATED:20250812T092935Z
LAST-MODIFIED:20250812T092935Z
UID:8339-1770548400-1770548400@tsg-zellertal.de
SUMMARY:Damen Oberliga Südwest TSG Zellertal - SV Remmesweiler
DESCRIPTION:
URL:https://tsg-zellertal.de/events/damen-oberliga-suedwest-tsg-zellertal-sv-remmesweiler/
CATEGORIES:Tischtennis,Tischtennis-Hauptverein
END:VEVENT
BEGIN:VEVENT
DTSTART;TZID=Europe/Helsinki:20260210T200000
DTEND;TZID=Europe/Helsinki:20260210T200000
DTSTAMP:20260423T014309
CREATED:20250821T090107Z
LAST-MODIFIED:20250821T090107Z
UID:8536-1770753600-1770753600@tsg-zellertal.de
SUMMARY:Kreisklasse B Nord-Ost TuS Sausenheim - TSG Zellertal 3
DESCRIPTION:
URL:https://tsg-zellertal.de/events/kreisklasse-b-nord-ost-tus-sausenheim-tsg-zellertal-3/
CATEGORIES:Tischtennis,Tischtennis-Hauptverein
END:VEVENT
BEGIN:VEVENT
DTSTART;TZID=Europe/Helsinki:20260211T200000
DTEND;TZID=Europe/Helsinki:20260211T200000
DTSTAMP:20260423T014309
CREATED:20250821T092830Z
LAST-MODIFIED:20250821T092830Z
UID:8608-1770840000-1770840000@tsg-zellertal.de
SUMMARY:Senioren 70 Herren TTV Mutterstadt - TSG Zellertal
DESCRIPTION:
URL:https://tsg-zellertal.de/events/senioren-70-herren-ttv-mutterstadt-tsg-zellertal/
CATEGORIES:Tischtennis,Tischtennis-Hauptverein
END:VEVENT
BEGIN:VEVENT
DTSTART;TZID=Europe/Helsinki:20260211T201500
DTEND;TZID=Europe/Helsinki:20260211T201500
DTSTAMP:20260423T014309
CREATED:20250821T092453Z
LAST-MODIFIED:20250821T092453Z
UID:8598-1770840900-1770840900@tsg-zellertal.de
SUMMARY:Senioren 60 Herren TV Lambsheim - TSG Zellertal
DESCRIPTION:
URL:https://tsg-zellertal.de/events/senioren-60-herren-tv-lambsheim-tsg-zellertal/
CATEGORIES:Tischtennis,Tischtennis-Hauptverein
END:VEVENT
BEGIN:VEVENT
DTSTART;TZID=Europe/Helsinki:20260220T193000
DTEND;TZID=Europe/Helsinki:20260220T193000
DTSTAMP:20260423T014309
CREATED:20250812T100309Z
LAST-MODIFIED:20250812T100309Z
UID:8399-1771615800-1771615800@tsg-zellertal.de
SUMMARY:Bezirksliga Vorderpfalz Nord SV Kirchheim - TSG Zellertal
DESCRIPTION:
URL:https://tsg-zellertal.de/events/bezirksliga-vorderpfalz-nord-sv-kirchheim-tsg-zellertal/
CATEGORIES:Tischtennis,Tischtennis-Hauptverein
END:VEVENT
BEGIN:VEVENT
DTSTART;TZID=Europe/Helsinki:20260221T100000
DTEND;TZID=Europe/Helsinki:20260221T100000
DTSTAMP:20260423T014309
CREATED:20250821T091149Z
LAST-MODIFIED:20250821T091149Z
UID:8562-1771668000-1771668000@tsg-zellertal.de
SUMMARY:Bezirksklasse West Jugend 15 TV Ellerstadt - TSG Zellertal
DESCRIPTION:
URL:https://tsg-zellertal.de/events/bezirksklasse-west-jugend-15-tv-ellerstadt-tsg-zellertal/
CATEGORIES:Tischtennis,Tischtennis-Hauptverein
END:VEVENT
BEGIN:VEVENT
DTSTART;TZID=Europe/Helsinki:20260221T100000
DTEND;TZID=Europe/Helsinki:20260221T100000
DTSTAMP:20260423T014309
CREATED:20250821T091924Z
LAST-MODIFIED:20250821T091924Z
UID:8584-1771668000-1771668000@tsg-zellertal.de
SUMMARY:Bezirksliga Jugend 19 TSG Zellertal - TTF Frankenthal 2
DESCRIPTION:
URL:https://tsg-zellertal.de/events/bezirksliga-jugend-19-tsg-zellertal-ttf-frankenthal-2/
CATEGORIES:Tischtennis,Tischtennis-Hauptverein
END:VEVENT
BEGIN:VEVENT
DTSTART;TZID=Europe/Helsinki:20260222T100000
DTEND;TZID=Europe/Helsinki:20260222T100000
DTSTAMP:20260423T014309
CREATED:20250812T093025Z
LAST-MODIFIED:20250812T093025Z
UID:8341-1771754400-1771754400@tsg-zellertal.de
SUMMARY:Damen Oberliga Südwest TSG Zellertal - TTV Edenkoben
DESCRIPTION:
URL:https://tsg-zellertal.de/events/damen-oberliga-suedwest-tsg-zellertal-ttv-edenkoben/
CATEGORIES:Tischtennis,Tischtennis-Hauptverein
END:VEVENT
BEGIN:VEVENT
DTSTART;TZID=Europe/Helsinki:20260223T200000
DTEND;TZID=Europe/Helsinki:20260223T200000
DTSTAMP:20260423T014309
CREATED:20250821T090151Z
LAST-MODIFIED:20250821T090151Z
UID:8538-1771876800-1771876800@tsg-zellertal.de
SUMMARY:Kreisklasse B Nord-Ost TSG Zellertal 3 - SV Kirchheim 3
DESCRIPTION:
URL:https://tsg-zellertal.de/events/kreisklasse-b-nord-ost-tsg-zellertal-3-sv-kirchheim-3/
CATEGORIES:Tischtennis,Tischtennis-Hauptverein
END:VEVENT
BEGIN:VEVENT
DTSTART;TZID=Europe/Helsinki:20260227T193000
DTEND;TZID=Europe/Helsinki:20260227T193000
DTSTAMP:20260423T014309
CREATED:20250812T100358Z
LAST-MODIFIED:20250812T100358Z
UID:8401-1772220600-1772220600@tsg-zellertal.de
SUMMARY:Bezirksliga Vorderpfalz Nord TSG Zellertal - TTC Albisheim
DESCRIPTION:
URL:https://tsg-zellertal.de/events/bezirksliga-vorderpfalz-nord-tsg-zellertal-ttc-albisheim/
CATEGORIES:Tischtennis,Tischtennis-Hauptverein
END:VEVENT
BEGIN:VEVENT
DTSTART;TZID=Europe/Helsinki:20260228T143000
DTEND;TZID=Europe/Helsinki:20260228T143000
DTSTAMP:20260423T014309
CREATED:20250821T092007Z
LAST-MODIFIED:20250821T092007Z
UID:8586-1772289000-1772289000@tsg-zellertal.de
SUMMARY:Bezirksliga Jugend 19 TTC Oppau - TSG Zellertal
DESCRIPTION:
URL:https://tsg-zellertal.de/events/bezirksliga-jugend-19-ttc-oppau-tsg-zellertal/
CATEGORIES:Tischtennis,Tischtennis-Hauptverein
END:VEVENT
END:VCALENDAR