BEGIN:VCALENDAR
VERSION:2.0
PRODID:-//TSG Zellertal - ECPv6.15.20//NONSGML v1.0//EN
CALSCALE:GREGORIAN
METHOD:PUBLISH
X-ORIGINAL-URL:https://tsg-zellertal.de
X-WR-CALDESC:Veranstaltungen für TSG Zellertal
REFRESH-INTERVAL;VALUE=DURATION:PT1H
X-Robots-Tag:noindex
X-PUBLISHED-TTL:PT1H
BEGIN:VTIMEZONE
TZID:Europe/Helsinki
BEGIN:DAYLIGHT
TZOFFSETFROM:+0200
TZOFFSETTO:+0300
TZNAME:EEST
DTSTART:20250330T010000
END:DAYLIGHT
BEGIN:STANDARD
TZOFFSETFROM:+0300
TZOFFSETTO:+0200
TZNAME:EET
DTSTART:20251026T010000
END:STANDARD
BEGIN:DAYLIGHT
TZOFFSETFROM:+0200
TZOFFSETTO:+0300
TZNAME:EEST
DTSTART:20260329T010000
END:DAYLIGHT
BEGIN:STANDARD
TZOFFSETFROM:+0300
TZOFFSETTO:+0200
TZNAME:EET
DTSTART:20261025T010000
END:STANDARD
BEGIN:DAYLIGHT
TZOFFSETFROM:+0200
TZOFFSETTO:+0300
TZNAME:EEST
DTSTART:20270328T010000
END:DAYLIGHT
BEGIN:STANDARD
TZOFFSETFROM:+0300
TZOFFSETTO:+0200
TZNAME:EET
DTSTART:20271031T010000
END:STANDARD
END:VTIMEZONE
BEGIN:VEVENT
DTSTART;TZID=Europe/Helsinki:20260104T110000
DTEND;TZID=Europe/Helsinki:20260104T110000
DTSTAMP:20260423T033417
CREATED:20251214T115628Z
LAST-MODIFIED:20251214T115628Z
UID:9027-1767524400-1767524400@tsg-zellertal.de
SUMMARY:Neujahrsempfang TSG Zellertal 2026
DESCRIPTION:
URL:https://tsg-zellertal.de/events/neujahrsempfang-tsg-zellertal-2026/
CATEGORIES:TSG-Allgemein
END:VEVENT
BEGIN:VEVENT
DTSTART;TZID=Europe/Helsinki:20260106T200000
DTEND;TZID=Europe/Helsinki:20260106T200000
DTSTAMP:20260423T033417
CREATED:20250821T092359Z
LAST-MODIFIED:20250821T092359Z
UID:8596-1767729600-1767729600@tsg-zellertal.de
SUMMARY:Senioren 60 Herren TSG Zellertal - SV Kirchheimbolanden
DESCRIPTION:
URL:https://tsg-zellertal.de/events/senioren-60-herren-tsg-zellertal-sv-kirchheimbolanden/
CATEGORIES:Tischtennis,Tischtennis-Hauptverein
END:VEVENT
BEGIN:VEVENT
DTSTART;TZID=Europe/Helsinki:20260109T200000
DTEND;TZID=Europe/Helsinki:20260109T200000
DTSTAMP:20260423T033417
CREATED:20250821T092751Z
LAST-MODIFIED:20250821T092751Z
UID:8606-1767988800-1767988800@tsg-zellertal.de
SUMMARY:Senioren 70 Herren TSG Zellertal - TTC Oppau
DESCRIPTION:
URL:https://tsg-zellertal.de/events/senioren-70-herren-tsg-zellertal-ttc-oppau/
CATEGORIES:Tischtennis,Tischtennis-Hauptverein
END:VEVENT
BEGIN:VEVENT
DTSTART;TZID=Europe/Helsinki:20260110T123000
DTEND;TZID=Europe/Helsinki:20260110T123000
DTSTAMP:20260423T033417
CREATED:20250821T091716Z
LAST-MODIFIED:20250821T091716Z
UID:8578-1768048200-1768048200@tsg-zellertal.de
SUMMARY:Bezirksliga Jugend 19 TTC Schifferstadt - TSG Zellertal
DESCRIPTION:
URL:https://tsg-zellertal.de/events/bezirksliga-jugend-19-ttc-schifferstadt-tsg-zellertal/
CATEGORIES:Tischtennis,Tischtennis-Hauptverein
END:VEVENT
BEGIN:VEVENT
DTSTART;TZID=Europe/Helsinki:20260110T140000
DTEND;TZID=Europe/Helsinki:20260110T140000
DTSTAMP:20260423T033417
CREATED:20250821T090842Z
LAST-MODIFIED:20250821T090842Z
UID:8554-1768053600-1768053600@tsg-zellertal.de
SUMMARY:Bezirksklasse West Jugend 15 ASV Birkenheide - TSG Zellertal
DESCRIPTION:
URL:https://tsg-zellertal.de/events/bezirksklasse-west-jugend-15-asv-birkenheide-tsg-zellertal/
CATEGORIES:Tischtennis,Tischtennis-Hauptverein
END:VEVENT
BEGIN:VEVENT
DTSTART;TZID=Europe/Helsinki:20260111T100000
DTEND;TZID=Europe/Helsinki:20260111T100000
DTSTAMP:20260423T033417
CREATED:20250812T092739Z
LAST-MODIFIED:20250812T092758Z
UID:8334-1768125600-1768125600@tsg-zellertal.de
SUMMARY:Damen Oberliga Südwest TSG Zellertal -TTC Klingenmünster
DESCRIPTION:
URL:https://tsg-zellertal.de/events/damen-oberliga-suedwest-tsg-tellertal-ttc-klingenmuenster/
CATEGORIES:Tischtennis,Tischtennis-Hauptverein
END:VEVENT
BEGIN:VEVENT
DTSTART;TZID=Europe/Helsinki:20260113T193000
DTEND;TZID=Europe/Helsinki:20260113T193000
DTSTAMP:20260423T033417
CREATED:20250812T102812Z
LAST-MODIFIED:20250812T102812Z
UID:8432-1768332600-1768332600@tsg-zellertal.de
SUMMARY:Kreisliga Nord-West SV Kirchheim 2 - TSG Zellertal 2
DESCRIPTION:
URL:https://tsg-zellertal.de/events/kreisliga-nord-west-sv-kirchheim-2-tsg-zellertal-2/
CATEGORIES:Tischtennis,Tischtennis-Hauptverein
END:VEVENT
BEGIN:VEVENT
DTSTART;TZID=Europe/Helsinki:20260116T193000
DTEND;TZID=Europe/Helsinki:20260116T193000
DTSTAMP:20260423T033417
CREATED:20250812T095949Z
LAST-MODIFIED:20250812T095949Z
UID:8391-1768591800-1768591800@tsg-zellertal.de
SUMMARY:Bezirksliga Vorderpfalz Nord TSG Zellertal - TTC Altrip
DESCRIPTION:
URL:https://tsg-zellertal.de/events/bezirksliga-vorderpfalz-nord-tsg-zellertal-ttc-altrip/
CATEGORIES:Tischtennis,Tischtennis-Hauptverein
END:VEVENT
BEGIN:VEVENT
DTSTART;TZID=Europe/Helsinki:20260116T200000
DTEND;TZID=Europe/Helsinki:20260116T200000
DTSTAMP:20260423T033417
CREATED:20250821T085741Z
LAST-MODIFIED:20250821T085741Z
UID:8528-1768593600-1768593600@tsg-zellertal.de
SUMMARY:Kreisklasse B Nord-Ost TTC Albisheim 5 - TSG Zellertal 3
DESCRIPTION:
URL:https://tsg-zellertal.de/events/kreisklasse-b-nord-ost-ttc-albisheim-5-tsg-zellertal-3/
CATEGORIES:Tischtennis,Tischtennis-Hauptverein
END:VEVENT
BEGIN:VEVENT
DTSTART;TZID=Europe/Helsinki:20260119T183000
DTEND;TZID=Europe/Helsinki:20260119T183000
DTSTAMP:20260423T033417
CREATED:20260103T161207Z
LAST-MODIFIED:20260103T161207Z
UID:9049-1768847400-1768847400@tsg-zellertal.de
SUMMARY:Buchvorstellung „Die Walz aus der Pfalz“
DESCRIPTION:Die Walz aus der Pfalz kommt ins Zellertal ! \nHans-Peter Briegel\, der Ehrenspielführer des 1. FC Kaiserslautern\, kommt am Montag\, 19. Januar 2026\, zum Talk mit Vorstellung seiner Biografie „Die Walz aus der Pfalz“ nach Zellertal. \nDer Abend mit dem gerade 70 Jahre alt gewordenen Briegel im Saal Mattinger in Niefernheim beginnt um 18.30 Uhr. \nDer Eintritt zur Veranstaltung beträgt 5 Euro. Die werden beim Erwerb des 27 Euro teuren Buches angerechnet. Hans-Peter Briegel\, ein  nahbarer Star ohne Allüren\, signiert die Bücher vor Ort natürlich auch sehr gerne. \nUm Kartenvorbestellung wird gebeten. Das ist möglich beim Neujahrsempfang der TSG Zellertal am Sonntag\, 4. Januar\, sowie bei Getränke Meinke in 67308 Zellertal\, Bahnhofstraße 11\, und unter E-Mail bei Peter Merkel: pmsp@hotmail.de sowie bei Lothar Wandel: lwandel@t-online.de
URL:https://tsg-zellertal.de/events/buchvorstellung-die-walz-aus-der-pfalz/
LOCATION:Saal Mattinger Niefernheim\, Königstraße\, Niefernheim\, 67308\, Germany
CATEGORIES:Förderverein,Fussball
END:VEVENT
BEGIN:VEVENT
DTSTART;TZID=Europe/Helsinki:20260119T200000
DTEND;TZID=Europe/Helsinki:20260119T200000
DTSTAMP:20260423T033417
CREATED:20250821T085827Z
LAST-MODIFIED:20250821T085827Z
UID:8530-1768852800-1768852800@tsg-zellertal.de
SUMMARY:Kreisklasse B Nord-Ost TSG Zellertal 3 - TTC Dirmstein
DESCRIPTION:
URL:https://tsg-zellertal.de/events/kreisklasse-b-nord-ost-tsg-zellertal-3-ttc-dirmstein/
CATEGORIES:Tischtennis,Tischtennis-Hauptverein
END:VEVENT
BEGIN:VEVENT
DTSTART;TZID=Europe/Helsinki:20260120T200000
DTEND;TZID=Europe/Helsinki:20260120T200000
DTSTAMP:20260423T033417
CREATED:20250812T102905Z
LAST-MODIFIED:20250812T102905Z
UID:8434-1768939200-1768939200@tsg-zellertal.de
SUMMARY:Kreisliga Nord-West TSG Zellertal 2 - TTC Albisheim 3
DESCRIPTION:
URL:https://tsg-zellertal.de/events/kreisliga-nord-west-tsg-zellertal-2-ttc-albisheim-3/
CATEGORIES:Tischtennis,Tischtennis-Hauptverein
END:VEVENT
BEGIN:VEVENT
DTSTART;TZID=Europe/Helsinki:20260122T200000
DTEND;TZID=Europe/Helsinki:20260122T200000
DTSTAMP:20260423T033417
CREATED:20250812T100047Z
LAST-MODIFIED:20250812T100047Z
UID:8393-1769112000-1769112000@tsg-zellertal.de
SUMMARY:Bezirksliga Vorderpfalz Nord TG Oggersheim - TSG Zellertal
DESCRIPTION:
URL:https://tsg-zellertal.de/events/bezirksliga-vorderpfalz-nord-tg-oggersheim-tsg-zellertal/
CATEGORIES:Tischtennis,Tischtennis-Hauptverein
END:VEVENT
BEGIN:VEVENT
DTSTART;TZID=Europe/Helsinki:20260124T100000
DTEND;TZID=Europe/Helsinki:20260124T100000
DTSTAMP:20260423T033417
CREATED:20250821T090924Z
LAST-MODIFIED:20250821T090924Z
UID:8556-1769248800-1769248800@tsg-zellertal.de
SUMMARY:Bezirksklasse West Jugend 15 TSG Zellertal - TTC Bad Dürkheim
DESCRIPTION:
URL:https://tsg-zellertal.de/events/bezirksklasse-west-jugend-15-tsg-zellertal-ttc-bad-duerkheim/
CATEGORIES:Tischtennis,Tischtennis-Hauptverein
END:VEVENT
BEGIN:VEVENT
DTSTART;TZID=Europe/Helsinki:20260130T193000
DTEND;TZID=Europe/Helsinki:20260130T193000
DTSTAMP:20260423T033417
CREATED:20250812T100132Z
LAST-MODIFIED:20250812T100132Z
UID:8395-1769801400-1769801400@tsg-zellertal.de
SUMMARY:Bezirksliga Vorderpfalz Nord TSG Zellertal - TTC Frankenthal
DESCRIPTION:
URL:https://tsg-zellertal.de/events/bezirksliga-vorderpfalz-nord-tsg-zellertal-ttc-frankenthal/
CATEGORIES:Tischtennis,Tischtennis-Hauptverein
END:VEVENT
BEGIN:VEVENT
DTSTART;TZID=Europe/Helsinki:20260130T200000
DTEND;TZID=Europe/Helsinki:20260130T200000
DTSTAMP:20260423T033417
CREATED:20250812T102955Z
LAST-MODIFIED:20250812T102955Z
UID:8436-1769803200-1769803200@tsg-zellertal.de
SUMMARY:Kreisliga Nord-West FC Marnheim - TSG Zellertal 2
DESCRIPTION:
URL:https://tsg-zellertal.de/events/kreisliga-nord-west-fc-marnheim-tsg-zellertal-2/
CATEGORIES:Tischtennis,Tischtennis-Hauptverein
END:VEVENT
BEGIN:VEVENT
DTSTART;TZID=Europe/Helsinki:20260130T201500
DTEND;TZID=Europe/Helsinki:20260130T201500
DTSTAMP:20260423T033417
CREATED:20250821T085918Z
LAST-MODIFIED:20250821T085918Z
UID:8532-1769804100-1769804100@tsg-zellertal.de
SUMMARY:Kreisklasse B Nord-Ost TSG Grünstadt 4 - TSG Zellertal 3
DESCRIPTION:
URL:https://tsg-zellertal.de/events/kreisklasse-b-nord-ost-tsg-gruenstadt-4-tsg-zellertal-3/
CATEGORIES:Tischtennis,Tischtennis-Hauptverein
END:VEVENT
BEGIN:VEVENT
DTSTART;TZID=Europe/Helsinki:20260131T130000
DTEND;TZID=Europe/Helsinki:20260131T130000
DTSTAMP:20260423T033417
CREATED:20250821T091010Z
LAST-MODIFIED:20250821T091010Z
UID:8558-1769864400-1769864400@tsg-zellertal.de
SUMMARY:Bezirksklasse West Jugend 15 TuS Sausenheim - TSG Zellertal
DESCRIPTION:
URL:https://tsg-zellertal.de/events/bezirksklasse-west-jugend-15-tus-sausenheim-tsg-zellertal/
CATEGORIES:Tischtennis,Tischtennis-Hauptverein
END:VEVENT
BEGIN:VEVENT
DTSTART;TZID=Europe/Helsinki:20260131T143000
DTEND;TZID=Europe/Helsinki:20260131T143000
DTSTAMP:20260423T033417
CREATED:20250821T091804Z
LAST-MODIFIED:20250821T091804Z
UID:8580-1769869800-1769869800@tsg-zellertal.de
SUMMARY:Bezirksliga Jugend 19 TuS Wachenheim - TSG Zellertal
DESCRIPTION:
URL:https://tsg-zellertal.de/events/bezirksliga-jugend-19-tus-wachenheim-tsg-zellertal/
CATEGORIES:Tischtennis,Tischtennis-Hauptverein
END:VEVENT
END:VCALENDAR