BEGIN:VCALENDAR
VERSION:2.0
PRODID:-//TSG Zellertal - ECPv6.15.20//NONSGML v1.0//EN
CALSCALE:GREGORIAN
METHOD:PUBLISH
X-WR-CALNAME:TSG Zellertal
X-ORIGINAL-URL:https://tsg-zellertal.de
X-WR-CALDESC:Veranstaltungen für TSG Zellertal
REFRESH-INTERVAL;VALUE=DURATION:PT1H
X-Robots-Tag:noindex
X-PUBLISHED-TTL:PT1H
BEGIN:VTIMEZONE
TZID:Europe/Helsinki
BEGIN:DAYLIGHT
TZOFFSETFROM:+0200
TZOFFSETTO:+0300
TZNAME:EEST
DTSTART:20240331T010000
END:DAYLIGHT
BEGIN:STANDARD
TZOFFSETFROM:+0300
TZOFFSETTO:+0200
TZNAME:EET
DTSTART:20241027T010000
END:STANDARD
BEGIN:DAYLIGHT
TZOFFSETFROM:+0200
TZOFFSETTO:+0300
TZNAME:EEST
DTSTART:20250330T010000
END:DAYLIGHT
BEGIN:STANDARD
TZOFFSETFROM:+0300
TZOFFSETTO:+0200
TZNAME:EET
DTSTART:20251026T010000
END:STANDARD
BEGIN:DAYLIGHT
TZOFFSETFROM:+0200
TZOFFSETTO:+0300
TZNAME:EEST
DTSTART:20260329T010000
END:DAYLIGHT
BEGIN:STANDARD
TZOFFSETFROM:+0300
TZOFFSETTO:+0200
TZNAME:EET
DTSTART:20261025T010000
END:STANDARD
END:VTIMEZONE
BEGIN:VEVENT
DTSTART;VALUE=DATE:20250101
DTEND;VALUE=DATE:20260101
DTSTAMP:20260423T071118
CREATED:20241213T153744Z
LAST-MODIFIED:20250404T090728Z
UID:7280-1735689600-1767225599@tsg-zellertal.de
SUMMARY:Veranstaltungskalender 2025
DESCRIPTION:Abt. SCHWIMMEN/BREITENSPORT\n \nJubiläen & Ehrungen 2025\n \n125 Jahre 1900-2025 | TSG Zellertal \n60 Jahre 1965-2025 | Abt. Schwimmen/Breitensport \n2025 | TSG Zellertal wurde von der Kreisverwaltung zum Verein des Jahres ausgewählt \n. \nChallenge 2025\n \n125 Sportabzeichen der TSG Zellertal in 2025 \n. \nVeranstaltungen 2025\n \nJan. 5. | 14 Uhr  – Neujahrsempfang 2025 | Evangelisches Gemeindehaus\, Lindenstraße 2 in 67308 Harxheim/Zellertal \nJan. 18. | 09-16 Uhr  – 34. Int. Masters + RLP KB Meisterschaften Masters | Rheinwelle Ingelheim \nJan. 19. | 10-14 Uhr  – Neujahrsbrunch 2025 mit Urkunden- und Medallienübergabe der Vereinsmeisterschaften 2024 | Saal Mattinger\, Königsstraße 17\, 67308 Niefernheim/Zellertal \n. \nMärz 15. | 19 Uhr – „125“ Jahr-Feier | Bürgerhaus\, Hauptstraße 15\, 67308 Einselthum \nMärz 15. | 8:30 Uhr – 7 Schwimmertreff SV Kirchheimbolanden | KiboBad Kirchheimbolanden | Meldeschluss 09.03. \nMärz 22./23. | 8:30 Uhr – RLP-Meisterschaften 50 m Bahn | Traglufthalle Mainz-Mombach \nMärz 30. | 8 Uhr – 18 Aquabella Cup SSV Mutterstadt | Aquabella Mutterstadt | Meldeschluss 23.03. \n. \nApril 12. | 10:00 Uhr – 1. Sportabzeichentag 2025 für Jedermann | Sportplatz Zellertal \nApril 14. | 20:00 Uhr – Sportabzeichen im Schwimmen für Jedermann | KiboBad Kirchheimbolanden \nApril 17. | 18:00 Uhr – Sportabzeichen im Schwimmen für Jedermann | KiboBad Kirchheimbolanden \n. \n\nMai 03.-04. | 08-16 Uhr – Kreuznacher Stadtwerke-Cup SFC Nahetal | Salinenbad Bad Kreuznach | Meldeschluss 26.04. \nMai 06. | 19:15 Uhr – Ordentliche Abteilungsversammlung 2025 mit Neuwahlen | Sportheim Zellertal \nMai 13. | 18:30 Uhr – Veranstaltung „Verein des Jahres“ | Saal Lind\, Bubenheimerstr. 1\, Harxheim/Zellertal \nMai 21. | 20 Uhr – Ordentliche Mitgliederversammlung 2025 TSG Zellertal | Sportheim \n. \nJuni 00. | 9:00 Uhr – Kreisjugendschwimmfest 2025 | Freibad Rockenhausen \n. \nJuli 05. | 11:00 Uhr – Sommerfest 2025 Abt. Schwimmen-Breitensport | Freizeitgelände Einselthum \n. \nAugust 16. | 10:00 Uhr – 2. Sportabzeichentag 2025 für Jedermann | Sportplatz Zellertal \n. \n\nAlle Angaben ohne Gewähr\, weitere Termine folgen.. \nViel Vergnügen! \n \nmir..❤️ SPORT
URL:https://tsg-zellertal.de/events/veranstaltungskalender-2025/
CATEGORIES:Schwimmen und Breitensport,Schwimmen und Breitensport-Hauptverein
END:VEVENT
BEGIN:VEVENT
DTSTART;VALUE=DATE:20250101
DTEND;VALUE=DATE:20260101
DTSTAMP:20260423T071118
CREATED:20250509T175254Z
LAST-MODIFIED:20250509T184921Z
UID:7917-1735689600-1767225599@tsg-zellertal.de
SUMMARY:Jubiläums-Challenge - 125 Sportabzeichen
DESCRIPTION:Absolviere im Jahr 2025 das „Deutsches Sportabzeichen“ bei der TSG Zellertal und werde Teil der Challenge: \n\nC H A L L E N G E\n\n125 Jahre TSG Zellertal\n1 9 0 0 – 2 0 2 5\n\n125 Sportabzeichen mit unseren Mitgliedern (auch für Nichtmitglieder!)\nder TSG Zellertal\nMöglichkeiten bieten Laura und Sophie \nDienstag von 19-20 Uhr nach dem Rückenfit-Training | Sporthalle bzw. Sportplatz Zellertal | Leichtathletik Turnen Seilspringen \nDonnerstag ab 20 Uhr | Waldschwimmbad Eisenberg | Schwimmen \n >>> bitte vorher per Email beim Trainer anmelden\n  \n \n 
URL:https://tsg-zellertal.de/events/jubilaeums-challenge-125-sportabzeichen/
CATEGORIES:Breitensport,Schwimmen und Breitensport,Schwimmen und Breitensport-Hauptverein,Sportabzeichen
END:VEVENT
BEGIN:VEVENT
DTSTART;TZID=Europe/Helsinki:20251101T190000
DTEND;TZID=Europe/Helsinki:20251101T190000
DTSTAMP:20260423T071118
CREATED:20250812T094419Z
LAST-MODIFIED:20250812T094419Z
UID:8357-1762023600-1762023600@tsg-zellertal.de
SUMMARY:Damen 2. Pfalzliga SV Kirchheimbolanden - TSG Zellertal 2
DESCRIPTION:
URL:https://tsg-zellertal.de/events/damen-2-pfalzliga-sv-kirchheimbolanden-tsg-zellertal-2/
CATEGORIES:Tischtennis,Tischtennis-Hauptverein
END:VEVENT
BEGIN:VEVENT
DTSTART;TZID=Europe/Helsinki:20251103T200000
DTEND;TZID=Europe/Helsinki:20251103T200000
DTSTAMP:20260423T071118
CREATED:20250821T085547Z
LAST-MODIFIED:20250821T085547Z
UID:8524-1762200000-1762200000@tsg-zellertal.de
SUMMARY:Kreisklasse B Nord-Ost TTV Bobenheim 4 - TSG Zellertal 3
DESCRIPTION:
URL:https://tsg-zellertal.de/events/kreisklasse-b-nord-ost-ttv-bobenheim-4-tsg-zellertal-3/
CATEGORIES:Tischtennis,Tischtennis-Hauptverein
END:VEVENT
BEGIN:VEVENT
DTSTART;TZID=Europe/Helsinki:20251105T200000
DTEND;TZID=Europe/Helsinki:20251105T200000
DTSTAMP:20260423T071118
CREATED:20250812T102536Z
LAST-MODIFIED:20250812T102536Z
UID:8426-1762372800-1762372800@tsg-zellertal.de
SUMMARY:Kreisliga Nord-West KSV Breunigweiler - TSG Zellertal 2
DESCRIPTION:
URL:https://tsg-zellertal.de/events/kreisliga-nord-west-ksv-breunigweiler-tsg-zellertal-2/
CATEGORIES:Tischtennis,Tischtennis-Hauptverein
END:VEVENT
BEGIN:VEVENT
DTSTART;TZID=Europe/Helsinki:20251107T193000
DTEND;TZID=Europe/Helsinki:20251107T193000
DTSTAMP:20260423T071118
CREATED:20250812T095727Z
LAST-MODIFIED:20250812T095727Z
UID:8385-1762543800-1762543800@tsg-zellertal.de
SUMMARY:Bezirksliga Vorderpfalz Nord TSG Zellertal - TTF Dannstadt-Schauernheim
DESCRIPTION:
URL:https://tsg-zellertal.de/events/bezirksliga-vorderpfalz-nord-tsg-zellertal-ttf-dannstadt-schauernheim/
CATEGORIES:Tischtennis,Tischtennis-Hauptverein
END:VEVENT
BEGIN:VEVENT
DTSTART;TZID=Europe/Helsinki:20251108T100000
DTEND;TZID=Europe/Helsinki:20251108T100000
DTSTAMP:20260423T071118
CREATED:20250821T090706Z
LAST-MODIFIED:20250821T090706Z
UID:8550-1762596000-1762596000@tsg-zellertal.de
SUMMARY:Bezirksklasse West Jugend 15 TSG Zellertal - TV Ellerstadt
DESCRIPTION:
URL:https://tsg-zellertal.de/events/bezirksklasse-west-jugend-15-tsg-zellertal-tv-ellerstadt/
CATEGORIES:Tischtennis,Tischtennis-Hauptverein
END:VEVENT
BEGIN:VEVENT
DTSTART;TZID=Europe/Helsinki:20251108T100000
DTEND;TZID=Europe/Helsinki:20251108T100000
DTSTAMP:20260423T071118
CREATED:20250821T091544Z
LAST-MODIFIED:20250821T091544Z
UID:8574-1762596000-1762596000@tsg-zellertal.de
SUMMARY:Bezirksliga Jugend 19 TSG Zellertal - TTC Oppau
DESCRIPTION:
URL:https://tsg-zellertal.de/events/bezirksliga-jugend-19-tsg-zellertal-ttc-oppau/
CATEGORIES:Tischtennis,Tischtennis-Hauptverein
END:VEVENT
BEGIN:VEVENT
DTSTART;TZID=Europe/Helsinki:20251108T170000
DTEND;TZID=Europe/Helsinki:20251108T170000
DTSTAMP:20260423T071118
CREATED:20250812T094511Z
LAST-MODIFIED:20250812T094511Z
UID:8359-1762621200-1762621200@tsg-zellertal.de
SUMMARY:Damen 2. Pfalzliga TSG Zellertal 2 - DJK Limburgerhof
DESCRIPTION:
URL:https://tsg-zellertal.de/events/damen-2-pfalzliga-tsg-zellertal-2-djk-limburgerhof/
CATEGORIES:Tischtennis,Tischtennis-Hauptverein
END:VEVENT
BEGIN:VEVENT
DTSTART;TZID=Europe/Helsinki:20251110T200000
DTEND;TZID=Europe/Helsinki:20251110T200000
DTSTAMP:20260423T071118
CREATED:20250821T085649Z
LAST-MODIFIED:20250821T085649Z
UID:8526-1762804800-1762804800@tsg-zellertal.de
SUMMARY:Kreisklasse B Nord-Ost TSG Zellertal 3 - TuS Sausenheim
DESCRIPTION:
URL:https://tsg-zellertal.de/events/kreisklasse-b-nord-ost-tsg-zellertal-3-tus-sausenheim/
CATEGORIES:Tischtennis,Tischtennis-Hauptverein
END:VEVENT
BEGIN:VEVENT
DTSTART;TZID=Europe/Helsinki:20251111T200000
DTEND;TZID=Europe/Helsinki:20251111T200000
DTSTAMP:20260423T071118
CREATED:20250812T102630Z
LAST-MODIFIED:20250812T102630Z
UID:8428-1762891200-1762891200@tsg-zellertal.de
SUMMARY:Kreisliga Nord-West TSG Zellertal 2 - TTC Frankenthal 2
DESCRIPTION:
URL:https://tsg-zellertal.de/events/kreisliga-nord-west-tsg-zellertal-2-ttc-frankenthal-2/
CATEGORIES:Tischtennis,Tischtennis-Hauptverein
END:VEVENT
BEGIN:VEVENT
DTSTART;TZID=Europe/Helsinki:20251114T200000
DTEND;TZID=Europe/Helsinki:20251114T200000
DTSTAMP:20260423T071118
CREATED:20250812T095815Z
LAST-MODIFIED:20250812T095815Z
UID:8387-1763150400-1763150400@tsg-zellertal.de
SUMMARY:Bezirksliga Vorderpfalz Nord TuS Wachenheim 2 - TSG Zellertal
DESCRIPTION:
URL:https://tsg-zellertal.de/events/bezirksliga-vorderpfalz-nord-tus-wachenheim-2-tsg-zellertal/
CATEGORIES:Tischtennis,Tischtennis-Hauptverein
END:VEVENT
BEGIN:VEVENT
DTSTART;TZID=Europe/Helsinki:20251115T110000
DTEND;TZID=Europe/Helsinki:20251115T110000
DTSTAMP:20260423T071118
CREATED:20250821T091635Z
LAST-MODIFIED:20250821T091635Z
UID:8576-1763204400-1763204400@tsg-zellertal.de
SUMMARY:Bezirksliga Jugend 19 TTC Bad Dürkheim - TSG Zellertal
DESCRIPTION:
URL:https://tsg-zellertal.de/events/bezirksliga-jugend-19-ttc-bad-duerkheim-tsg-zellertal/
CATEGORIES:Tischtennis,Tischtennis-Hauptverein
END:VEVENT
BEGIN:VEVENT
DTSTART;TZID=Europe/Helsinki:20251115T190000
DTEND;TZID=Europe/Helsinki:20251115T190000
DTSTAMP:20260423T071118
CREATED:20250812T092411Z
LAST-MODIFIED:20250812T092411Z
UID:8328-1763233200-1763233200@tsg-zellertal.de
SUMMARY:Damen Oberliga Südwest TTV Edenkoben - TSG Zellertal
DESCRIPTION:
URL:https://tsg-zellertal.de/events/damen-oberliga-suedwest-ttv-edenkoben-tsg-zellertal/
CATEGORIES:Tischtennis,Tischtennis-Hauptverein
END:VEVENT
BEGIN:VEVENT
DTSTART;TZID=Europe/Helsinki:20251115T190000
DTEND;TZID=Europe/Helsinki:20251115T190000
DTSTAMP:20260423T071118
CREATED:20250812T094553Z
LAST-MODIFIED:20250812T094553Z
UID:8361-1763233200-1763233200@tsg-zellertal.de
SUMMARY:Damen 2. Pfalzliga TTC Altenglan - TSG Zellertal 2
DESCRIPTION:
URL:https://tsg-zellertal.de/events/damen-2-pfalzliga-ttc-altenglan-tsg-zellertal-2/
CATEGORIES:Tischtennis,Tischtennis-Hauptverein
END:VEVENT
BEGIN:VEVENT
DTSTART;TZID=Europe/Helsinki:20251116T110000
DTEND;TZID=Europe/Helsinki:20251116T110000
DTSTAMP:20260423T071118
CREATED:20250812T092509Z
LAST-MODIFIED:20250812T092509Z
UID:8330-1763290800-1763290800@tsg-zellertal.de
SUMMARY:Damen Oberliga Südwest SV Remmesweiler - TSG Zellertal
DESCRIPTION:
URL:https://tsg-zellertal.de/events/damen-oberliga-suedwest-sv-remmesweiler-tsg-zellertal/
CATEGORIES:Tischtennis,Tischtennis-Hauptverein
END:VEVENT
BEGIN:VEVENT
DTSTART;TZID=Europe/Helsinki:20251121T193000
DTEND;TZID=Europe/Helsinki:20251121T193000
DTSTAMP:20260423T071118
CREATED:20250812T095905Z
LAST-MODIFIED:20250812T095905Z
UID:8389-1763753400-1763753400@tsg-zellertal.de
SUMMARY:Bezirksliga Vorderpfalz Nord TSG Zellertal - SVF Ludwigshafen
DESCRIPTION:
URL:https://tsg-zellertal.de/events/bezirksliga-vorderpfalz-nord-tsg-zellertal-svf-ludwigshafen/
CATEGORIES:Tischtennis,Tischtennis-Hauptverein
END:VEVENT
BEGIN:VEVENT
DTSTART;TZID=Europe/Helsinki:20251122T143000
DTEND;TZID=Europe/Helsinki:20251122T143000
DTSTAMP:20260423T071118
CREATED:20250821T090756Z
LAST-MODIFIED:20250821T090756Z
UID:8552-1763821800-1763821800@tsg-zellertal.de
SUMMARY:Bezirksklasse West Jugend 15 TuS Wachenheim 2 - TSG Zellertal
DESCRIPTION:
URL:https://tsg-zellertal.de/events/bezirksklasse-west-jugend-15-tus-wachenheim-2-tsg-zellertal/
CATEGORIES:Tischtennis,Tischtennis-Hauptverein
END:VEVENT
BEGIN:VEVENT
DTSTART;TZID=Europe/Helsinki:20251125T200000
DTEND;TZID=Europe/Helsinki:20251125T200000
DTSTAMP:20260423T071118
CREATED:20250821T092308Z
LAST-MODIFIED:20250821T092308Z
UID:8594-1764100800-1764100800@tsg-zellertal.de
SUMMARY:Senioren 60 Herren TSG Zellertal - TV Lambsheim
DESCRIPTION:
URL:https://tsg-zellertal.de/events/senioren-60-herren-tsg-zellertal-tv-lambsheim/
CATEGORIES:Tischtennis,Tischtennis-Hauptverein
END:VEVENT
BEGIN:VEVENT
DTSTART;TZID=Europe/Helsinki:20251126T201500
DTEND;TZID=Europe/Helsinki:20251126T201500
DTSTAMP:20260423T071118
CREATED:20250812T102719Z
LAST-MODIFIED:20250812T102719Z
UID:8430-1764188100-1764188100@tsg-zellertal.de
SUMMARY:Kreisliga Nord-West TTF Frankenthal 3 - TSG Zellertal 2
DESCRIPTION:
URL:https://tsg-zellertal.de/events/kreisliga-nord-west-ttf-frankenthal-3-tsg-zellertal-2/
CATEGORIES:Tischtennis,Tischtennis-Hauptverein
END:VEVENT
BEGIN:VEVENT
DTSTART;TZID=Europe/Helsinki:20251128T200000
DTEND;TZID=Europe/Helsinki:20251128T200000
DTSTAMP:20260423T071118
CREATED:20250821T092712Z
LAST-MODIFIED:20250821T092712Z
UID:8604-1764360000-1764360000@tsg-zellertal.de
SUMMARY:Senioren 70 Herren TSG Zellertal - TTV Mutterstadt
DESCRIPTION:
URL:https://tsg-zellertal.de/events/senioren-70-herren-tsg-zellertal-ttv-mutterstadt/
CATEGORIES:Tischtennis,Tischtennis-Hauptverein
END:VEVENT
END:VCALENDAR