BEGIN:VCALENDAR
VERSION:2.0
PRODID:-//TSG Zellertal - ECPv6.15.20//NONSGML v1.0//EN
CALSCALE:GREGORIAN
METHOD:PUBLISH
X-WR-CALNAME:TSG Zellertal
X-ORIGINAL-URL:https://tsg-zellertal.de
X-WR-CALDESC:Veranstaltungen für TSG Zellertal
REFRESH-INTERVAL;VALUE=DURATION:PT1H
X-Robots-Tag:noindex
X-PUBLISHED-TTL:PT1H
BEGIN:VTIMEZONE
TZID:Europe/Helsinki
BEGIN:DAYLIGHT
TZOFFSETFROM:+0200
TZOFFSETTO:+0300
TZNAME:EEST
DTSTART:20240331T010000
END:DAYLIGHT
BEGIN:STANDARD
TZOFFSETFROM:+0300
TZOFFSETTO:+0200
TZNAME:EET
DTSTART:20241027T010000
END:STANDARD
BEGIN:DAYLIGHT
TZOFFSETFROM:+0200
TZOFFSETTO:+0300
TZNAME:EEST
DTSTART:20250330T010000
END:DAYLIGHT
BEGIN:STANDARD
TZOFFSETFROM:+0300
TZOFFSETTO:+0200
TZNAME:EET
DTSTART:20251026T010000
END:STANDARD
BEGIN:DAYLIGHT
TZOFFSETFROM:+0200
TZOFFSETTO:+0300
TZNAME:EEST
DTSTART:20260329T010000
END:DAYLIGHT
BEGIN:STANDARD
TZOFFSETFROM:+0300
TZOFFSETTO:+0200
TZNAME:EET
DTSTART:20261025T010000
END:STANDARD
END:VTIMEZONE
BEGIN:VEVENT
DTSTART;VALUE=DATE:20250101
DTEND;VALUE=DATE:20260101
DTSTAMP:20260423T104157
CREATED:20241213T153744Z
LAST-MODIFIED:20250404T090728Z
UID:7280-1735689600-1767225599@tsg-zellertal.de
SUMMARY:Veranstaltungskalender 2025
DESCRIPTION:Abt. SCHWIMMEN/BREITENSPORT\n \nJubiläen & Ehrungen 2025\n \n125 Jahre 1900-2025 | TSG Zellertal \n60 Jahre 1965-2025 | Abt. Schwimmen/Breitensport \n2025 | TSG Zellertal wurde von der Kreisverwaltung zum Verein des Jahres ausgewählt \n. \nChallenge 2025\n \n125 Sportabzeichen der TSG Zellertal in 2025 \n. \nVeranstaltungen 2025\n \nJan. 5. | 14 Uhr  – Neujahrsempfang 2025 | Evangelisches Gemeindehaus\, Lindenstraße 2 in 67308 Harxheim/Zellertal \nJan. 18. | 09-16 Uhr  – 34. Int. Masters + RLP KB Meisterschaften Masters | Rheinwelle Ingelheim \nJan. 19. | 10-14 Uhr  – Neujahrsbrunch 2025 mit Urkunden- und Medallienübergabe der Vereinsmeisterschaften 2024 | Saal Mattinger\, Königsstraße 17\, 67308 Niefernheim/Zellertal \n. \nMärz 15. | 19 Uhr – „125“ Jahr-Feier | Bürgerhaus\, Hauptstraße 15\, 67308 Einselthum \nMärz 15. | 8:30 Uhr – 7 Schwimmertreff SV Kirchheimbolanden | KiboBad Kirchheimbolanden | Meldeschluss 09.03. \nMärz 22./23. | 8:30 Uhr – RLP-Meisterschaften 50 m Bahn | Traglufthalle Mainz-Mombach \nMärz 30. | 8 Uhr – 18 Aquabella Cup SSV Mutterstadt | Aquabella Mutterstadt | Meldeschluss 23.03. \n. \nApril 12. | 10:00 Uhr – 1. Sportabzeichentag 2025 für Jedermann | Sportplatz Zellertal \nApril 14. | 20:00 Uhr – Sportabzeichen im Schwimmen für Jedermann | KiboBad Kirchheimbolanden \nApril 17. | 18:00 Uhr – Sportabzeichen im Schwimmen für Jedermann | KiboBad Kirchheimbolanden \n. \n\nMai 03.-04. | 08-16 Uhr – Kreuznacher Stadtwerke-Cup SFC Nahetal | Salinenbad Bad Kreuznach | Meldeschluss 26.04. \nMai 06. | 19:15 Uhr – Ordentliche Abteilungsversammlung 2025 mit Neuwahlen | Sportheim Zellertal \nMai 13. | 18:30 Uhr – Veranstaltung „Verein des Jahres“ | Saal Lind\, Bubenheimerstr. 1\, Harxheim/Zellertal \nMai 21. | 20 Uhr – Ordentliche Mitgliederversammlung 2025 TSG Zellertal | Sportheim \n. \nJuni 00. | 9:00 Uhr – Kreisjugendschwimmfest 2025 | Freibad Rockenhausen \n. \nJuli 05. | 11:00 Uhr – Sommerfest 2025 Abt. Schwimmen-Breitensport | Freizeitgelände Einselthum \n. \nAugust 16. | 10:00 Uhr – 2. Sportabzeichentag 2025 für Jedermann | Sportplatz Zellertal \n. \n\nAlle Angaben ohne Gewähr\, weitere Termine folgen.. \nViel Vergnügen! \n \nmir..❤️ SPORT
URL:https://tsg-zellertal.de/events/veranstaltungskalender-2025/
CATEGORIES:Schwimmen und Breitensport,Schwimmen und Breitensport-Hauptverein
END:VEVENT
BEGIN:VEVENT
DTSTART;VALUE=DATE:20250101
DTEND;VALUE=DATE:20260101
DTSTAMP:20260423T104157
CREATED:20250509T175254Z
LAST-MODIFIED:20250509T184921Z
UID:7917-1735689600-1767225599@tsg-zellertal.de
SUMMARY:Jubiläums-Challenge - 125 Sportabzeichen
DESCRIPTION:Absolviere im Jahr 2025 das „Deutsches Sportabzeichen“ bei der TSG Zellertal und werde Teil der Challenge: \n\nC H A L L E N G E\n\n125 Jahre TSG Zellertal\n1 9 0 0 – 2 0 2 5\n\n125 Sportabzeichen mit unseren Mitgliedern (auch für Nichtmitglieder!)\nder TSG Zellertal\nMöglichkeiten bieten Laura und Sophie \nDienstag von 19-20 Uhr nach dem Rückenfit-Training | Sporthalle bzw. Sportplatz Zellertal | Leichtathletik Turnen Seilspringen \nDonnerstag ab 20 Uhr | Waldschwimmbad Eisenberg | Schwimmen \n >>> bitte vorher per Email beim Trainer anmelden\n  \n \n 
URL:https://tsg-zellertal.de/events/jubilaeums-challenge-125-sportabzeichen/
CATEGORIES:Breitensport,Schwimmen und Breitensport,Schwimmen und Breitensport-Hauptverein,Sportabzeichen
END:VEVENT
BEGIN:VEVENT
DTSTART;TZID=Europe/Helsinki:20250902T200000
DTEND;TZID=Europe/Helsinki:20250902T200000
DTSTAMP:20260423T104157
CREATED:20250812T102309Z
LAST-MODIFIED:20250812T102309Z
UID:8420-1756843200-1756843200@tsg-zellertal.de
SUMMARY:Kreisliga Nord-West TTC Albisheim 3 - TSG Zellertal 2
DESCRIPTION:
URL:https://tsg-zellertal.de/events/kreisliga-nord-west-ttc-albisheim-3-tsg-zellertal-2/
CATEGORIES:Tischtennis,Tischtennis-Hauptverein
END:VEVENT
BEGIN:VEVENT
DTSTART;TZID=Europe/Helsinki:20250903T200000
DTEND;TZID=Europe/Helsinki:20250903T200000
DTSTAMP:20260423T104157
CREATED:20250821T085228Z
LAST-MODIFIED:20250821T085228Z
UID:8516-1756929600-1756929600@tsg-zellertal.de
SUMMARY:Kreisklasse B Nord-Ost TTC Dirmstein - TSG Zellertal 3
DESCRIPTION:
URL:https://tsg-zellertal.de/events/kreisklasse-b-nord-ost-ttc-dirmstein-tsg-zellertal-3/
CATEGORIES:Tischtennis,Tischtennis-Hauptverein
END:VEVENT
BEGIN:VEVENT
DTSTART;TZID=Europe/Helsinki:20250905T193000
DTEND;TZID=Europe/Helsinki:20250905T193000
DTSTAMP:20260423T104157
CREATED:20250812T095307Z
LAST-MODIFIED:20250812T095307Z
UID:8375-1757100600-1757100600@tsg-zellertal.de
SUMMARY:Bezirksliga Vorderpfalz Nord TSG Zellertal - TG Oggersheim
DESCRIPTION:
URL:https://tsg-zellertal.de/events/bezirksliga-vorderpfalz-nord-tsg-zellertal-tg-oggersheim/
CATEGORIES:Tischtennis,Tischtennis-Hauptverein
END:VEVENT
BEGIN:VEVENT
DTSTART;TZID=Europe/Helsinki:20250906T110000
DTEND;TZID=Europe/Helsinki:20250906T110000
DTSTAMP:20260423T104157
CREATED:20250821T090446Z
LAST-MODIFIED:20250821T090446Z
UID:8544-1757156400-1757156400@tsg-zellertal.de
SUMMARY:Bezirksklasse West Jugend 15 TTC Bad Dürkheim - TSG Zellertal
DESCRIPTION:
URL:https://tsg-zellertal.de/events/bezirksklasse-west-jugend-15-ttc-bad-duerkheim-tsg-zellertal/
CATEGORIES:Tischtennis,Tischtennis-Hauptverein
END:VEVENT
BEGIN:VEVENT
DTSTART;TZID=Europe/Helsinki:20250908T200000
DTEND;TZID=Europe/Helsinki:20250908T200000
DTSTAMP:20260423T104157
CREATED:20250821T085312Z
LAST-MODIFIED:20250821T085312Z
UID:8518-1757361600-1757361600@tsg-zellertal.de
SUMMARY:Kreisklasse B Nord-Ost TSG Zellertal 3 - TSG Grünstadt 4
DESCRIPTION:
URL:https://tsg-zellertal.de/events/kreisklasse-b-nord-ost-tsg-zellertal-3-tsg-gruenstadt-4/
CATEGORIES:Tischtennis,Tischtennis-Hauptverein
END:VEVENT
BEGIN:VEVENT
DTSTART;TZID=Europe/Helsinki:20250909T200000
DTEND;TZID=Europe/Helsinki:20250909T200000
DTSTAMP:20260423T104157
CREATED:20250812T102357Z
LAST-MODIFIED:20250812T102357Z
UID:8422-1757448000-1757448000@tsg-zellertal.de
SUMMARY:Kreisliga Nord-West TSG Zellertal 2 - FC Marnheim
DESCRIPTION:
URL:https://tsg-zellertal.de/events/kreisliga-nord-west-tsg-zellertal-2-fc-marnheim/
CATEGORIES:Tischtennis,Tischtennis-Hauptverein
END:VEVENT
BEGIN:VEVENT
DTSTART;TZID=Europe/Helsinki:20250910T201500
DTEND;TZID=Europe/Helsinki:20250910T201500
DTSTAMP:20260423T104157
CREATED:20250812T095406Z
LAST-MODIFIED:20250812T095406Z
UID:8377-1757535300-1757535300@tsg-zellertal.de
SUMMARY:Bezirksliga Vorderpfalz Nord TTC Frankenthal - TSG Zellertal
DESCRIPTION:
URL:https://tsg-zellertal.de/events/bezirksliga-vorderpfalz-nord-ttc-frankenthal-tsg-zellertal/
CATEGORIES:Tischtennis,Tischtennis-Hauptverein
END:VEVENT
BEGIN:VEVENT
DTSTART;TZID=Europe/Helsinki:20250913T100000
DTEND;TZID=Europe/Helsinki:20250913T100000
DTSTAMP:20260423T104157
CREATED:20250821T090531Z
LAST-MODIFIED:20250821T090531Z
UID:8546-1757757600-1757757600@tsg-zellertal.de
SUMMARY:Bezirksklasse West Jugend 15 TSG Zellertal - TuS Sausenheim
DESCRIPTION:
URL:https://tsg-zellertal.de/events/bezirksklasse-west-jugend-15-tsg-zellertal-tus-sausenheim/
CATEGORIES:Tischtennis,Tischtennis-Hauptverein
END:VEVENT
BEGIN:VEVENT
DTSTART;TZID=Europe/Helsinki:20250913T170000
DTEND;TZID=Europe/Helsinki:20250913T170000
DTSTAMP:20260423T104157
CREATED:20250812T094239Z
LAST-MODIFIED:20250812T094239Z
UID:8353-1757782800-1757782800@tsg-zellertal.de
SUMMARY:Damen 2. Pfalzliga TSG Zellertal 2 - TTC Oppau
DESCRIPTION:
URL:https://tsg-zellertal.de/events/damen-2-pfalzliga-tsg-zellertal-2-ttc-oppau/
CATEGORIES:Tischtennis,Tischtennis-Hauptverein
END:VEVENT
BEGIN:VEVENT
DTSTART;TZID=Europe/Helsinki:20250913T180000
DTEND;TZID=Europe/Helsinki:20250913T180000
DTSTAMP:20260423T104157
CREATED:20250812T091955Z
LAST-MODIFIED:20250812T091955Z
UID:8318-1757786400-1757786400@tsg-zellertal.de
SUMMARY:Damen Oberliga Südwest 1. FC Saarbrücken TT - TSG Zellertal
DESCRIPTION:
URL:https://tsg-zellertal.de/events/damen-oberliga-suedwest-1-fc-saarbruecken-tt-tsg-zellertal/
CATEGORIES:Tischtennis,Tischtennis-Hauptverein
END:VEVENT
BEGIN:VEVENT
DTSTART;TZID=Europe/Helsinki:20250914T110000
DTEND;TZID=Europe/Helsinki:20250914T110000
DTSTAMP:20260423T104157
CREATED:20250812T092041Z
LAST-MODIFIED:20250812T092041Z
UID:8320-1757847600-1757847600@tsg-zellertal.de
SUMMARY:Damen Oberliga Südwest TTV Berschweiler - TSG Zellertal
DESCRIPTION:
URL:https://tsg-zellertal.de/events/damen-oberliga-suedwest-ttv-berschweiler-tsg-zellertal/
CATEGORIES:Tischtennis,Tischtennis-Hauptverein
END:VEVENT
BEGIN:VEVENT
DTSTART;TZID=Europe/Helsinki:20250917T200000
DTEND;TZID=Europe/Helsinki:20250917T200000
DTSTAMP:20260423T104157
CREATED:20250812T102443Z
LAST-MODIFIED:20250812T102443Z
UID:8424-1758139200-1758139200@tsg-zellertal.de
SUMMARY:Kreisliga Nord-West TSG Eisenberg 2 - TSG Zellertal 2
DESCRIPTION:
URL:https://tsg-zellertal.de/events/kreisliga-nord-west-tsg-eisenberg-2-tsg-zellertal-2/
CATEGORIES:Tischtennis,Tischtennis-Hauptverein
END:VEVENT
BEGIN:VEVENT
DTSTART;TZID=Europe/Helsinki:20250919T193000
DTEND;TZID=Europe/Helsinki:20250919T193000
DTSTAMP:20260423T104157
CREATED:20250812T095448Z
LAST-MODIFIED:20250812T095448Z
UID:8379-1758310200-1758310200@tsg-zellertal.de
SUMMARY:Bezirksliga Vorderpfalz Nord TSG Zellertal - TTC Schifferstadt
DESCRIPTION:
URL:https://tsg-zellertal.de/events/bezirksliga-vorderpfalz-nord-tsg-zellertal-ttc-schifferstadt/
CATEGORIES:Tischtennis,Tischtennis-Hauptverein
END:VEVENT
BEGIN:VEVENT
DTSTART;TZID=Europe/Helsinki:20250919T201500
DTEND;TZID=Europe/Helsinki:20250919T201500
DTSTAMP:20260423T104157
CREATED:20250821T085404Z
LAST-MODIFIED:20250821T085404Z
UID:8520-1758312900-1758312900@tsg-zellertal.de
SUMMARY:Kreisklasse B Nord-Ost TTC Frankenthal 4 - TSG Zellertal 3
DESCRIPTION:
URL:https://tsg-zellertal.de/events/kreisklasse-b-nord-ost-ttc-frankenthal-4-tsg-zellertal-3/
CATEGORIES:Tischtennis,Tischtennis-Hauptverein
END:VEVENT
BEGIN:VEVENT
DTSTART;TZID=Europe/Helsinki:20250920T100000
DTEND;TZID=Europe/Helsinki:20250920T100000
DTSTAMP:20260423T104157
CREATED:20250821T091350Z
LAST-MODIFIED:20250821T091350Z
UID:8568-1758362400-1758362400@tsg-zellertal.de
SUMMARY:Bezirksliga Jugend 19 TSG Zellertal - TuS Wachenheim
DESCRIPTION:
URL:https://tsg-zellertal.de/events/bezirksliga-jugend-19-tsg-zellertal-tus-wachenheim/
CATEGORIES:Tischtennis,Tischtennis-Hauptverein
END:VEVENT
BEGIN:VEVENT
DTSTART;TZID=Europe/Helsinki:20250920T180000
DTEND;TZID=Europe/Helsinki:20250920T180000
DTSTAMP:20260423T104157
CREATED:20250812T092128Z
LAST-MODIFIED:20250812T092128Z
UID:8322-1758391200-1758391200@tsg-zellertal.de
SUMMARY:Damen Oberliga Südwest TTC Klingenmünster - TSG Zellertal
DESCRIPTION:
URL:https://tsg-zellertal.de/events/damen-oberliga-suedwest-ttc-klingenmuenster-tsg-zellertal/
CATEGORIES:Tischtennis,Tischtennis-Hauptverein
END:VEVENT
BEGIN:VEVENT
DTSTART;TZID=Europe/Helsinki:20250920T193000
DTEND;TZID=Europe/Helsinki:20250920T193000
DTSTAMP:20260423T104157
CREATED:20250812T094329Z
LAST-MODIFIED:20250812T094329Z
UID:8355-1758396600-1758396600@tsg-zellertal.de
SUMMARY:Damen 2. Pfalzliga TTC Steinalben - TSG Zellertal 2
DESCRIPTION:
URL:https://tsg-zellertal.de/events/damen-2-pfalzliga-ttc-steinalben-tsg-zellertal-2/
CATEGORIES:Tischtennis,Tischtennis-Hauptverein
END:VEVENT
BEGIN:VEVENT
DTSTART;TZID=Europe/Helsinki:20250921T100000
DTEND;TZID=Europe/Helsinki:20250921T100000
DTSTAMP:20260423T104157
CREATED:20250812T092222Z
LAST-MODIFIED:20250812T092222Z
UID:8324-1758448800-1758448800@tsg-zellertal.de
SUMMARY:Damen Oberliga Südwest TSG Zellertal - TTC Brücken
DESCRIPTION:
URL:https://tsg-zellertal.de/events/damen-oberliga-suedwest-tsg-zellertal-ttc-bruecken/
CATEGORIES:Tischtennis,Tischtennis-Hauptverein
END:VEVENT
BEGIN:VEVENT
DTSTART;TZID=Europe/Helsinki:20250926T193000
DTEND;TZID=Europe/Helsinki:20250926T193000
DTSTAMP:20260423T104157
CREATED:20250812T095536Z
LAST-MODIFIED:20250812T095536Z
UID:8381-1758915000-1758915000@tsg-zellertal.de
SUMMARY:Bezirksliga Vorderpfalz Nord TSG Zellertal - SV Kirchheim
DESCRIPTION:
URL:https://tsg-zellertal.de/events/bezirksliga-vorderpfalz-nord-tsg-zellertal-sv-kirchheim/
CATEGORIES:Tischtennis,Tischtennis-Hauptverein
END:VEVENT
BEGIN:VEVENT
DTSTART;VALUE=DATE:20250927
DTEND;VALUE=DATE:20250930
DTSTAMP:20260423T104157
CREATED:20250905T121940Z
LAST-MODIFIED:20250905T121940Z
UID:8795-1758931200-1759190399@tsg-zellertal.de
SUMMARY:Haschemer Kerb bei den TSG-Fußballern
DESCRIPTION:✨ Haschemer Kerb bei den TSG-Fußballern ✨\n📍 Im Hof Dannenfelser \n🎉 Programm\nSamstag\, 27.09. ab 18:30 Uhr \n\n\nKerweparty mit Norbert Bendel \n\n\nBarbetrieb \n\n\nSonntag\, 28.09. \n\n\nab 11:30 Uhr Mittagstisch \n\n\nNach dem Kerweumzug: Kaffee & Kuchen der TSG-Jugendabteilung \n\n\nAnschließend gemütliches Beisammensein \n\n\nMontag\, 29.09. \n\n\n18:00 Uhr Hoferöffnung \n\n\nab 20:00 Uhr „Noppes live“ \n\n\nBarbetrieb \n\n\n\n🍽️ An allen Kerwetagen: \n\n\nKöstlichkeiten aus der TSG-Küche \n\n\nPils & Weizenbier vom Fass \n\n\nFrische\, spritzige Weine
URL:https://tsg-zellertal.de/events/haschemer-kerb-bei-den-tsg-fussballern/
LOCATION:Hof Dannenfelser\, Hauptstr. 4\, Zellertal\, Harxheim\, 67308\, Germany
CATEGORIES:Fussball,TSG-Allgemein
ATTACH;FMTTYPE=image/png:https://tsg-zellertal.de/wp-content/uploads/2025/09/ChatGPT-Image-5.-Sept.-2025-14_14_16.png
END:VEVENT
BEGIN:VEVENT
DTSTART;TZID=Europe/Helsinki:20250927T100000
DTEND;TZID=Europe/Helsinki:20250927T100000
DTSTAMP:20260423T104157
CREATED:20250821T091430Z
LAST-MODIFIED:20250821T091430Z
UID:8570-1758967200-1758967200@tsg-zellertal.de
SUMMARY:Bezirksliga Jugend 19 TSG Zellertal - TSV Freinsheim
DESCRIPTION:
URL:https://tsg-zellertal.de/events/bezirksliga-jugend-19-tsg-zellertal-tsv-freinsheim/
CATEGORIES:Tischtennis,Tischtennis-Hauptverein
END:VEVENT
BEGIN:VEVENT
DTSTART;TZID=Europe/Helsinki:20250927T123000
DTEND;TZID=Europe/Helsinki:20250927T123000
DTSTAMP:20260423T104157
CREATED:20250821T090621Z
LAST-MODIFIED:20250821T090621Z
UID:8548-1758976200-1758976200@tsg-zellertal.de
SUMMARY:Bezirksklasse West Jugend 15 ASV Maxdorf - TSG Zellertal
DESCRIPTION:
URL:https://tsg-zellertal.de/events/bezirksklasse-west-jugend-15-asv-maxdorf-tsg-zellertal/
CATEGORIES:Tischtennis,Tischtennis-Hauptverein
END:VEVENT
BEGIN:VEVENT
DTSTART;TZID=Europe/Helsinki:20250930T200000
DTEND;TZID=Europe/Helsinki:20250930T200000
DTSTAMP:20260423T104157
CREATED:20250821T092143Z
LAST-MODIFIED:20250821T092143Z
UID:8590-1759262400-1759262400@tsg-zellertal.de
SUMMARY:Senioren 60 Herren SV Kirchheimbolanden - TSG Zellertal
DESCRIPTION:
URL:https://tsg-zellertal.de/events/senioren-60-herren-sv-kirchheimbolanden-tsg-zellertal/
CATEGORIES:Tischtennis,Tischtennis-Hauptverein
END:VEVENT
END:VCALENDAR