BEGIN:VCALENDAR
VERSION:2.0
PRODID:-//TSG Zellertal - ECPv6.15.20//NONSGML v1.0//EN
CALSCALE:GREGORIAN
METHOD:PUBLISH
X-ORIGINAL-URL:https://tsg-zellertal.de
X-WR-CALDESC:Veranstaltungen für TSG Zellertal
REFRESH-INTERVAL;VALUE=DURATION:PT1H
X-Robots-Tag:noindex
X-PUBLISHED-TTL:PT1H
BEGIN:VTIMEZONE
TZID:Europe/Helsinki
BEGIN:DAYLIGHT
TZOFFSETFROM:+0200
TZOFFSETTO:+0300
TZNAME:EEST
DTSTART:20250330T010000
END:DAYLIGHT
BEGIN:STANDARD
TZOFFSETFROM:+0300
TZOFFSETTO:+0200
TZNAME:EET
DTSTART:20251026T010000
END:STANDARD
BEGIN:DAYLIGHT
TZOFFSETFROM:+0200
TZOFFSETTO:+0300
TZNAME:EEST
DTSTART:20260329T010000
END:DAYLIGHT
BEGIN:STANDARD
TZOFFSETFROM:+0300
TZOFFSETTO:+0200
TZNAME:EET
DTSTART:20261025T010000
END:STANDARD
BEGIN:DAYLIGHT
TZOFFSETFROM:+0200
TZOFFSETTO:+0300
TZNAME:EEST
DTSTART:20270328T010000
END:DAYLIGHT
BEGIN:STANDARD
TZOFFSETFROM:+0300
TZOFFSETTO:+0200
TZNAME:EET
DTSTART:20271031T010000
END:STANDARD
END:VTIMEZONE
BEGIN:VEVENT
DTSTART;TZID=Europe/Helsinki:20260614T100000
DTEND;TZID=Europe/Helsinki:20260614T180000
DTSTAMP:20260423T014135
CREATED:20260314T103544Z
LAST-MODIFIED:20260314T104054Z
UID:9126-1781431200-1781460000@tsg-zellertal.de
SUMMARY:Kreisjugendschwimmfest in Winnweiler
DESCRIPTION:Am Kreisjugendschwimmfest in Winnweiler nehmen auch Schwimmerinnen und Schwimmer der TSG Zellertal teil.
URL:https://tsg-zellertal.de/events/kreisjugendschwimmfest/
LOCATION:Schwimmbad Winnweiler\, Am Schwimmbad 1\, Winnweiler\, 67722
CATEGORIES:Schwimmen,Schwimmen und Breitensport,Schwimmen und Breitensport-Hauptverein
ATTACH;FMTTYPE=image/jpeg:https://tsg-zellertal.de/wp-content/uploads/2024/11/Schwimmen1.jpeg
END:VEVENT
END:VCALENDAR