BEGIN:VCALENDAR
VERSION:2.0
PRODID:-//TSG Zellertal - ECPv6.15.20//NONSGML v1.0//EN
CALSCALE:GREGORIAN
METHOD:PUBLISH
X-WR-CALNAME:TSG Zellertal
X-ORIGINAL-URL:https://tsg-zellertal.de
X-WR-CALDESC:Veranstaltungen für TSG Zellertal
REFRESH-INTERVAL;VALUE=DURATION:PT1H
X-Robots-Tag:noindex
X-PUBLISHED-TTL:PT1H
BEGIN:VTIMEZONE
TZID:Europe/Helsinki
BEGIN:DAYLIGHT
TZOFFSETFROM:+0200
TZOFFSETTO:+0300
TZNAME:EEST
DTSTART:20250330T010000
END:DAYLIGHT
BEGIN:STANDARD
TZOFFSETFROM:+0300
TZOFFSETTO:+0200
TZNAME:EET
DTSTART:20251026T010000
END:STANDARD
BEGIN:DAYLIGHT
TZOFFSETFROM:+0200
TZOFFSETTO:+0300
TZNAME:EEST
DTSTART:20260329T010000
END:DAYLIGHT
BEGIN:STANDARD
TZOFFSETFROM:+0300
TZOFFSETTO:+0200
TZNAME:EET
DTSTART:20261025T010000
END:STANDARD
BEGIN:DAYLIGHT
TZOFFSETFROM:+0200
TZOFFSETTO:+0300
TZNAME:EEST
DTSTART:20270328T010000
END:DAYLIGHT
BEGIN:STANDARD
TZOFFSETFROM:+0300
TZOFFSETTO:+0200
TZNAME:EET
DTSTART:20271031T010000
END:STANDARD
END:VTIMEZONE
BEGIN:VEVENT
DTSTART;TZID=Europe/Helsinki:20260315T100000
DTEND;TZID=Europe/Helsinki:20260315T100000
DTSTAMP:20260423T014002
CREATED:20250812T093258Z
LAST-MODIFIED:20250812T093258Z
UID:8347-1773568800-1773568800@tsg-zellertal.de
SUMMARY:Damen Oberliga Südwest TSG Zellertal - 1. FC Saarbrücken TT
DESCRIPTION:
URL:https://tsg-zellertal.de/events/damen-oberliga-suedwest-tsg-zellertal-1-fc-saarbruecken-tt/
CATEGORIES:Tischtennis,Tischtennis-Hauptverein
END:VEVENT
END:VCALENDAR