BEGIN:VCALENDAR
VERSION:2.0
PRODID:-//TSG Zellertal - ECPv6.15.20//NONSGML v1.0//EN
CALSCALE:GREGORIAN
METHOD:PUBLISH
X-WR-CALNAME:TSG Zellertal
X-ORIGINAL-URL:https://tsg-zellertal.de
X-WR-CALDESC:Veranstaltungen für TSG Zellertal
REFRESH-INTERVAL;VALUE=DURATION:PT1H
X-Robots-Tag:noindex
X-PUBLISHED-TTL:PT1H
BEGIN:VTIMEZONE
TZID:Europe/Helsinki
BEGIN:DAYLIGHT
TZOFFSETFROM:+0200
TZOFFSETTO:+0300
TZNAME:EEST
DTSTART:20250330T010000
END:DAYLIGHT
BEGIN:STANDARD
TZOFFSETFROM:+0300
TZOFFSETTO:+0200
TZNAME:EET
DTSTART:20251026T010000
END:STANDARD
BEGIN:DAYLIGHT
TZOFFSETFROM:+0200
TZOFFSETTO:+0300
TZNAME:EEST
DTSTART:20260329T010000
END:DAYLIGHT
BEGIN:STANDARD
TZOFFSETFROM:+0300
TZOFFSETTO:+0200
TZNAME:EET
DTSTART:20261025T010000
END:STANDARD
BEGIN:DAYLIGHT
TZOFFSETFROM:+0200
TZOFFSETTO:+0300
TZNAME:EEST
DTSTART:20270328T010000
END:DAYLIGHT
BEGIN:STANDARD
TZOFFSETFROM:+0300
TZOFFSETTO:+0200
TZNAME:EET
DTSTART:20271031T010000
END:STANDARD
END:VTIMEZONE
BEGIN:VEVENT
DTSTART;TZID=Europe/Helsinki:20260314T183000
DTEND;TZID=Europe/Helsinki:20260314T183000
DTSTAMP:20260423T014036
CREATED:20250812T093205Z
LAST-MODIFIED:20250812T093205Z
UID:8345-1773513000-1773513000@tsg-zellertal.de
SUMMARY:Damen Oberliga Südwest RSV Klein-Winternheim - TSG Zellertal
DESCRIPTION:
URL:https://tsg-zellertal.de/events/damen-oberliga-suedwest-rsv-klein-winternheim-tsg-zellertal/
CATEGORIES:Tischtennis,Tischtennis-Hauptverein
END:VEVENT
BEGIN:VEVENT
DTSTART;TZID=Europe/Helsinki:20260314T190000
DTEND;TZID=Europe/Helsinki:20260314T190000
DTSTAMP:20260423T014036
CREATED:20250812T094918Z
LAST-MODIFIED:20250812T094918Z
UID:8369-1773514800-1773514800@tsg-zellertal.de
SUMMARY:Damen 2. Pfalzliga DJK Limburgerhof - TSG Zellertal 2
DESCRIPTION:
URL:https://tsg-zellertal.de/events/damen-2-pfalzliga-djk-limburgerhof-tsg-zellertal-2/
CATEGORIES:Tischtennis,Tischtennis-Hauptverein
END:VEVENT
END:VCALENDAR