BEGIN:VCALENDAR
VERSION:2.0
PRODID:-//TSG Zellertal - ECPv6.15.20//NONSGML v1.0//EN
CALSCALE:GREGORIAN
METHOD:PUBLISH
X-ORIGINAL-URL:https://tsg-zellertal.de
X-WR-CALDESC:Veranstaltungen für TSG Zellertal
REFRESH-INTERVAL;VALUE=DURATION:PT1H
X-Robots-Tag:noindex
X-PUBLISHED-TTL:PT1H
BEGIN:VTIMEZONE
TZID:Europe/Helsinki
BEGIN:DAYLIGHT
TZOFFSETFROM:+0200
TZOFFSETTO:+0300
TZNAME:EEST
DTSTART:20250330T010000
END:DAYLIGHT
BEGIN:STANDARD
TZOFFSETFROM:+0300
TZOFFSETTO:+0200
TZNAME:EET
DTSTART:20251026T010000
END:STANDARD
BEGIN:DAYLIGHT
TZOFFSETFROM:+0200
TZOFFSETTO:+0300
TZNAME:EEST
DTSTART:20260329T010000
END:DAYLIGHT
BEGIN:STANDARD
TZOFFSETFROM:+0300
TZOFFSETTO:+0200
TZNAME:EET
DTSTART:20261025T010000
END:STANDARD
BEGIN:DAYLIGHT
TZOFFSETFROM:+0200
TZOFFSETTO:+0300
TZNAME:EEST
DTSTART:20270328T010000
END:DAYLIGHT
BEGIN:STANDARD
TZOFFSETFROM:+0300
TZOFFSETTO:+0200
TZNAME:EET
DTSTART:20271031T010000
END:STANDARD
END:VTIMEZONE
BEGIN:VEVENT
DTSTART;TZID=Europe/Helsinki:20260131T130000
DTEND;TZID=Europe/Helsinki:20260131T130000
DTSTAMP:20260423T033143
CREATED:20250821T091010Z
LAST-MODIFIED:20250821T091010Z
UID:8558-1769864400-1769864400@tsg-zellertal.de
SUMMARY:Bezirksklasse West Jugend 15 TuS Sausenheim - TSG Zellertal
DESCRIPTION:
URL:https://tsg-zellertal.de/events/bezirksklasse-west-jugend-15-tus-sausenheim-tsg-zellertal/
CATEGORIES:Tischtennis,Tischtennis-Hauptverein
END:VEVENT
BEGIN:VEVENT
DTSTART;TZID=Europe/Helsinki:20260131T143000
DTEND;TZID=Europe/Helsinki:20260131T143000
DTSTAMP:20260423T033143
CREATED:20250821T091804Z
LAST-MODIFIED:20250821T091804Z
UID:8580-1769869800-1769869800@tsg-zellertal.de
SUMMARY:Bezirksliga Jugend 19 TuS Wachenheim - TSG Zellertal
DESCRIPTION:
URL:https://tsg-zellertal.de/events/bezirksliga-jugend-19-tus-wachenheim-tsg-zellertal/
CATEGORIES:Tischtennis,Tischtennis-Hauptverein
END:VEVENT
END:VCALENDAR