BEGIN:VCALENDAR
VERSION:2.0
PRODID:-//TSG Zellertal - ECPv6.15.20//NONSGML v1.0//EN
CALSCALE:GREGORIAN
METHOD:PUBLISH
X-ORIGINAL-URL:https://tsg-zellertal.de
X-WR-CALDESC:Veranstaltungen für TSG Zellertal
REFRESH-INTERVAL;VALUE=DURATION:PT1H
X-Robots-Tag:noindex
X-PUBLISHED-TTL:PT1H
BEGIN:VTIMEZONE
TZID:Europe/Helsinki
BEGIN:DAYLIGHT
TZOFFSETFROM:+0200
TZOFFSETTO:+0300
TZNAME:EEST
DTSTART:20250330T010000
END:DAYLIGHT
BEGIN:STANDARD
TZOFFSETFROM:+0300
TZOFFSETTO:+0200
TZNAME:EET
DTSTART:20251026T010000
END:STANDARD
BEGIN:DAYLIGHT
TZOFFSETFROM:+0200
TZOFFSETTO:+0300
TZNAME:EEST
DTSTART:20260329T010000
END:DAYLIGHT
BEGIN:STANDARD
TZOFFSETFROM:+0300
TZOFFSETTO:+0200
TZNAME:EET
DTSTART:20261025T010000
END:STANDARD
BEGIN:DAYLIGHT
TZOFFSETFROM:+0200
TZOFFSETTO:+0300
TZNAME:EEST
DTSTART:20270328T010000
END:DAYLIGHT
BEGIN:STANDARD
TZOFFSETFROM:+0300
TZOFFSETTO:+0200
TZNAME:EET
DTSTART:20271031T010000
END:STANDARD
END:VTIMEZONE
BEGIN:VEVENT
DTSTART;TZID=Europe/Helsinki:20260104T110000
DTEND;TZID=Europe/Helsinki:20260104T110000
DTSTAMP:20260423T051329
CREATED:20251214T115628Z
LAST-MODIFIED:20251214T115628Z
UID:9027-1767524400-1767524400@tsg-zellertal.de
SUMMARY:Neujahrsempfang TSG Zellertal 2026
DESCRIPTION:
URL:https://tsg-zellertal.de/events/neujahrsempfang-tsg-zellertal-2026/
CATEGORIES:TSG-Allgemein
END:VEVENT
END:VCALENDAR